{"text_format":"1","workbook":"xlsx","n_sheets":5,"sheets":["Break","Efficiency","OverAll Performance","Summary","Dashboard"],"not_rendered":{"charts":2,"images":2,"macros":1,"external_links":1,"defined_names":3,"comments":0,"pivot_tables":2},"unopened":[],"bounds":{"document_bytes":16777216,"sheet_cells":100000,"rows_first":2000,"rows_last":500,"rows_between":2000,"halvings":0,"cell_chars":16384,"cell_head_chars":4096},"cells_cut":0,"cells_raw":0,"read":"whole","date_system":"1900"}

{"sheet":"Break","index":0,"n_rows":150,"n_cols":9,"rows_kept":150,"cut":false,"hidden":false,"merged":[]}
["Employee","Lunch","Normal Break","Feedback","Training","Meeting","Unwanted Break","Other Work","Total Break Taken"]
["Mum_Abdul Hamid (1008512)","00:36:49","00:30:24","00:00:00","00:00:00","00:00:00","00:00:00","00:00:00","01:08:42"]
["Mum_Afzal Husain (1008513)","00:39:56","00:29:55","00:00:00","00:00:00","00:00:00","00:00:00","00:00:00","01:09:59"]
["Mum_Anamika Gupta (1008514)","00:39:49","00:29:49","00:00:00","00:00:00","00:00:00","00:04:09","00:00:00","01:13:54"]
["Mum_Anikuttan (1008515)","00:39:17","00:22:20","01:10:58","00:00:00","00:00:00","00:00:00","00:00:00","02:19:02"]
["Mum_Anil Kumar (1008516)","00:00:00","00:29:44","00:00:00","00:00:00","00:29:31","00:00:00","02:05:20","03:04:58"]
["Mum_Anita Dixit (1008517)","00:00:00","00:14:56","00:00:00","00:00:00","00:00:00","00:10:12","00:00:00","00:27:07"]
["Mum_Anita Ghore (1008518)","00:39:59","00:29:58","00:00:00","00:00:00","00:00:00","00:00:00","01:31:35","02:41:42"]
["Mum_Anjali Deoram (1008519)","00:40:23","00:29:26","00:00:00","00:00:00","00:00:00","00:00:00","00:00:00","01:13:10"]
["Mum_Anjali Sahay (1008520)","00:39:55","00:24:49","00:00:00","00:00:00","00:00:00","00:00:00","00:00:00","01:06:39"]
["Mum_Annu Latika (1008521)","00:39:51","00:29:59","00:00:00","00:00:00","00:00:00","00:00:00","00:00:00","01:09:57"]
["Mum_Anoop Narayan (1008522)","00:39:41","00:29:25","00:00:00","00:00:00","00:00:00","00:00:00","00:00:00","01:09:15"]
["Mum_Anoop Raj (1008523)","00:39:05","00:29:59","00:00:00","01:05:04","00:30:24","00:12:32","00:00:00","03:01:18"]
["Mum_Anubhuti Gupta (1008524)","00:39:06","00:25:25","00:00:00","01:01:32","00:00:00","00:00:00","00:00:00","02:06:41"]
["Mum_Arun Kumar (1008525)","00:43:00","00:27:13","00:00:00","00:00:00","00:00:00","00:00:00","00:00:00","01:10:34"]
["Mum_Ashish Kumar (1008526)","00:37:37","00:29:49","00:00:00","00:00:00","00:00:00","00:08:43","00:00:00","01:16:59"]
["Mum_Ashok Kumar (1008527)","00:42:06","00:15:56","01:25:31","00:00:00","00:00:00","00:00:00","00:00:00","02:24:20"]
["Hyd_Ashok Kumar (1008528)","00:39:10","00:13:03","00:00:00","00:00:00","00:00:00","00:00:00","00:00:00","00:56:29"]
["Hyd_Ashok Kumar (1008529)","00:39:57","00:29:58","00:00:00","00:00:00","00:00:00","00:00:00","00:00:00","01:10:07"]
["Hyd_Ashok Kumar (1008530)","00:39:11","00:27:21","00:00:00","00:59:58","00:31:07","00:00:00","00:00:00","02:40:10"]
["Hyd_Ashok Mahto (1008531)","00:40:20","00:30:39","00:00:00","00:00:00","00:00:00","00:01:30","00:00:00","01:14:30"]
["Hyd_Atul Kumar (1008532)","00:39:29","00:27:03","00:00:00","00:00:00","00:00:00","00:00:00","00:00:00","01:06:59"]
["Hyd_Azam (1008533)","00:39:37","00:29:04","00:00:00","00:00:00","00:00:00","00:00:00","00:00:00","01:09:47"]
["Hyd_Bhagwat Singh (1008534)","00:40:00","00:30:03","00:59:16","00:00:00","00:00:00","00:00:00","00:00:00","02:10:18"]
["Hyd_Bindu Nair (1008535)","00:39:50","00:30:09","00:00:00","01:01:05","00:00:00","00:00:00","00:00:00","02:11:17"]
["Hyd_Daleep Singh (1008536)","00:39:28","00:26:22","00:00:00","00:00:00","00:00:00","00:00:00","00:00:00","01:12:54"]
["Hyd_Deepak Kumar (1008537)","00:00:00","00:28:49","00:00:00","00:00:00","00:00:00","00:00:00","00:00:00","00:30:30"]
["Hyd_Deepika Nigam (1008538)","00:39:54","00:29:57","00:00:00","00:00:00","00:00:00","00:00:00","00:00:00","01:11:40"]
["Hyd_Dinesh Kumar (1008539)","00:40:10","00:29:29","00:00:00","00:00:00","00:00:00","00:00:00","00:00:00","01:10:03"]
["Hyd_Hari Kumar (1008540)","00:40:56","00:31:30","00:00:00","00:59:59","00:31:59","00:00:00","00:00:00","02:44:52"]
["Hyd_Heeramani Choudhary (1008541)","00:00:00","00:30:00","00:00:00","00:00:00","00:25:55","00:08:29","00:00:00","01:20:20"]
["Hyd_Indra Pal (1008542)","00:39:50","00:29:16","00:00:00","00:00:00","00:00:00","00:00:00","00:00:00","01:09:15"]
["Hyd_Indra Singh (1008543)","00:39:19","00:28:23","00:00:00","01:01:07","00:00:00","00:00:00","00:00:00","02:09:14"]
["Hyd_Jagdish Chandra (1008544)","00:42:06","00:26:41","00:00:00","00:00:00","00:00:00","00:00:00","00:00:00","01:09:03"]
["Hyd_Jairaj Vatham (1008545)","00:39:09","00:29:05","00:00:00","00:00:00","00:00:00","00:00:00","00:00:00","01:09:56"]
["Hyd_Janardan Mishra (1008546)","00:00:00","00:25:16","00:59:55","00:00:00","00:00:00","00:00:00","00:00:00","01:28:09"]
["Hyd_Jitendra Kumar (1008547)","00:39:30","00:29:15","00:00:00","00:57:43","00:28:19","00:00:00","00:00:00","02:35:12"]
["Hyd_John D'Costa (1008548)","00:39:48","00:29:36","00:00:00","00:00:00","00:00:00","00:00:00","00:00:00","01:09:36"]
["Hyd_Julie S (1008549)","00:39:56","00:29:49","00:00:00","00:00:00","00:00:00","00:00:00","00:00:00","01:10:44"]
["Hyd_Jyoti Tulsani (1008550)","00:39:45","00:29:47","00:00:00","00:00:00","00:00:00","00:00:00","00:00:00","01:10:27"]
["Hyd_Kahkasha Parveen (1008551)","00:41:56","00:28:08","00:00:00","00:00:00","00:00:00","00:00:00","00:00:00","01:10:12"]
["Hyd_Kailash Nath (1008552)","00:38:04","00:28:33","00:00:00","00:00:00","00:00:00","00:00:00","00:00:00","01:07:40"]
["Hyd_Kalpana Agrawal (1008553)","00:32:59","00:32:50","00:00:00","00:00:00","01:17:58","00:00:00","00:00:00","02:24:54"]
["Hyd_Kamini Kumar (1008554)","00:00:00","00:14:51","00:00:00","00:00:00","00:00:00","00:00:00","00:00:00","00:15:00"]
["Hyd_Kamini Tiwari (1008555)","00:36:12","00:29:58","00:00:00","00:00:00","00:00:00","00:02:34","00:00:00","01:09:45"]
["Hyd_Kavita Sharma (1008556)","00:22:27","00:32:36","00:00:00","00:00:00","00:00:00","00:00:00","00:00:00","00:56:19"]
["Hyd_Kiran Khubchandani (1008557)","00:39:52","00:29:53","01:00:11","00:00:00","00:00:00","00:00:00","00:00:00","02:10:24"]
["Hyd_Kisun Sah (1008558)","00:39:19","00:29:53","00:00:00","00:00:00","00:00:00","00:00:00","00:00:00","01:09:28"]
["Hyd_Krishana Kumar (1008559)","00:39:57","00:29:39","00:00:00","00:00:00","00:00:00","00:00:00","00:00:00","01:09:45"]
["Hyd_Kunj Bihari (1008560)","00:40:00","00:30:01","00:00:00","00:00:00","00:00:00","00:00:00","00:00:00","01:10:11"]
["Hyd_Leena George (1008561)","00:00:00","00:15:12","00:00:00","00:00:00","00:00:00","00:02:41","00:00:00","00:18:10"]
["Hyd_Lilly Lucy (1008562)","00:20:52","00:30:04","00:00:00","00:00:00","00:00:00","00:23:27","00:00:00","01:14:44"]
["Hyd_Mangal Singh (1008563)","00:39:59","00:29:57","00:00:00","00:00:00","00:00:00","00:00:00","00:00:00","01:10:04"]
["Hyd_Manisha Shrivastava (1008564)","00:39:58","00:29:58","00:00:00","00:00:00","00:00:00","00:00:00","00:00:00","01:10:09"]
["Hyd_Manjusha Sinha (1008565)","00:44:30","00:25:13","00:00:00","00:00:00","00:00:00","00:00:00","00:00:00","01:10:39"]
["Hyd_ManjuTiwari Lab (1008566)","00:39:42","00:30:06","00:00:00","00:00:00","00:00:00","00:00:00","00:00:00","01:10:46"]
["Hyd_Manoj Kumar (1008567)","00:39:54","00:29:53","00:00:00","00:00:00","00:00:00","00:00:00","00:00:00","01:09:53"]
["Hyd_Manoj Kumar (1008568)","00:39:56","00:29:53","00:00:00","00:00:00","00:00:00","00:00:00","00:00:00","01:15:59"]
["Hyd_Masroor Adil (1008569)","00:39:55","00:29:46","00:00:00","00:00:00","00:00:00","00:00:00","00:00:00","01:11:39"]
["Hyd_Meena Zinjare (1008570)","00:41:13","00:30:01","00:00:00","01:06:34","01:16:39","00:00:00","00:00:00","03:34:45"]
["Hyd_Mehnaz Khan (1008571)","00:39:57","00:29:32","00:00:00","00:54:51","00:00:00","00:07:49","00:00:00","02:12:24"]
["Hyd_Mercy Thampi (1008572)","00:00:00","00:14:48","00:00:00","00:00:00","00:00:00","00:00:00","00:00:00","00:15:35"]
["Hyd_Miny Mole (1008573)","00:40:00","00:29:59","01:02:58","00:00:00","00:00:00","00:00:00","00:00:00","02:13:07"]
["Hyd_Mohd Rafi (1008574)","00:39:50","00:30:06","00:00:00","00:57:24","00:30:18","00:00:00","00:00:00","02:38:29"]
["Hyd_Mubeen Khan (1008575)","00:22:13","00:29:56","00:00:00","00:59:44","00:30:05","00:00:00","00:00:00","02:24:38"]
["Hyd_Mukesh Nagar (1008576)","00:00:00","00:14:52","00:00:00","00:00:00","00:00:00","00:14:31","00:00:00","00:29:34"]
["Hyd_Nandu Kumar (1008577)","00:39:48","00:21:10","00:00:00","00:00:00","00:00:00","00:00:00","00:00:00","01:14:03"]
["Hyd_Narayan Singh (1008578)","00:41:59","00:24:59","00:00:00","00:00:00","00:00:00","00:00:00","00:00:00","01:08:27"]
["Hyd_Neeraj Saxena (1008579)","00:39:49","00:28:46","01:05:52","00:00:00","00:00:00","00:00:00","00:00:00","02:15:18"]
["Hyd_Neeru Mehta (1008580)","00:39:59","00:29:55","00:00:00","00:00:00","00:00:00","00:00:00","00:00:00","01:10:03"]
["Hyd_Nikita Panwalkar (1008581)","00:40:04","00:29:41","00:00:00","00:00:00","00:27:31","00:00:00","00:00:00","01:37:25"]
["Hyd_Nitin Bhatia (1008582)","00:39:54","00:29:50","00:00:00","00:00:00","00:00:00","00:00:00","00:00:00","01:09:53"]
["Hyd_Om Prakash (1008583)","00:39:48","00:29:54","00:00:00","00:00:00","00:25:43","00:00:00","00:00:00","01:36:03"]
["Hyd_Omprakash O (1008584)","00:39:30","00:28:52","01:01:11","00:00:00","00:00:00","00:00:00","00:00:00","02:11:54"]
["Hyd_Owais Mohd (1008585)","00:39:56","00:30:00","00:00:00","00:00:00","01:16:16","00:00:00","00:00:00","02:26:26"]
["Hyd_Pankaj Shelkey (1008586)","00:39:59","00:29:58","00:00:00","00:00:00","00:00:00","00:00:00","00:45:18","01:55:26"]
["Hyd_Partha Sarathi (1008587)","00:41:16","00:29:14","00:27:13","00:00:00","00:00:00","00:00:00","00:00:00","01:38:42"]
["Hyd_Prabha Desikan (1008588)","00:39:03","00:15:01","00:00:00","00:00:00","02:36:37","00:00:00","00:40:39","04:11:26"]
["Hyd_Pramod Tiwari (1008589)","00:39:59","00:16:04","01:06:00","00:00:00","02:18:51","00:00:00","00:00:00","04:21:06"]
["Hyd_Prasannakumari S (1008590)","00:39:50","00:30:15","00:00:00","00:00:00","00:00:00","00:00:00","00:00:00","01:10:25"]
["Hyd_Praveen Kumar (1008591)","00:41:26","00:27:00","01:28:47","00:00:00","00:00:00","00:00:00","00:00:00","02:37:28"]
["Hyd_Rachel Mathew (1008592)","00:36:50","00:15:31","00:00:00","00:00:00","02:27:33","00:00:00","00:00:00","03:20:01"]
["Hyd_Rachita Anupam (1008593)","00:43:23","00:25:02","00:00:00","00:00:00","00:00:00","00:00:00","00:00:00","01:08:32"]
["Hyd_Rachna Chauhan (1008594)","00:00:00","00:30:00","00:00:00","00:00:00","00:00:00","00:00:00","00:00:00","00:30:20"]
["Hyd_Raj Kumar (1008595)","00:39:14","00:28:23","00:00:00","00:00:00","00:00:00","00:00:00","00:00:00","01:08:44"]
["Hyd_Rajeev Garg (1008596)","00:39:56","00:25:04","00:00:00","00:00:00","00:00:00","00:00:00","00:00:00","01:08:24"]
["Hyd_Rajeev Kumar (1008597)","00:39:40","00:30:17","00:00:00","00:00:00","00:00:00","00:00:00","00:26:42","01:37:06"]
["Hyd_Rajendra Gupta (1008598)","00:40:05","00:29:50","00:00:00","00:00:00","00:00:00","00:00:00","00:08:54","01:19:08"]
["Hyd_Rajendra Kumar (1008599)","00:41:03","00:18:31","00:00:00","00:51:05","00:00:00","00:00:00","00:40:02","02:34:16"]
["Hyd_Rajendra Prasad (1008600)","00:39:47","00:15:10","00:00:00","03:11:33","02:38:03","00:00:00","00:22:18","07:08:19"]
["Hyd_Rajesh Kumar (1008601)","00:39:36","00:29:57","00:00:00","00:00:00","00:00:00","00:00:00","00:01:27","01:12:04"]
["Hyd_Rajesh Kumar (1008602)","00:39:59","00:29:59","00:00:00","00:52:20","00:00:00","00:00:00","00:00:00","02:06:35"]
["Hyd_Rajesh Sharma (1008603)","00:00:00","00:15:03","00:00:00","00:00:00","00:00:02","00:08:32","00:00:00","00:24:27"]
["Hyd_Raji Abraham (1008604)","00:39:46","00:29:34","00:00:00","00:00:00","00:00:00","00:00:00","00:00:00","01:09:28"]
["Hyd_Rajshree Dhabekar (1008605)","00:40:05","00:27:28","00:00:00","00:00:00","02:37:19","00:00:00","04:29:57","08:15:09"]
["Hyd_Rakhi Jodhani (1008606)","00:39:17","00:17:15","00:00:00","00:00:00","02:37:45","00:00:00","03:05:19","06:39:44"]
["Hyd_Ramji Prasad (1008607)","00:39:33","00:29:13","00:00:00","00:00:00","00:00:00","00:03:52","00:00:00","01:13:46"]
["Del_Rashid (1008608)","00:39:52","00:15:13","00:00:00","00:00:00","00:00:00","00:00:00","04:49:55","05:45:13"]
["Del_Rashmi Gajbe (1008609)","00:37:12","00:28:12","00:00:00","00:57:50","00:00:00","00:00:00","00:00:00","02:04:58"]
["Del_Ravi Kumar (1008610)","00:39:42","00:29:46","00:00:00","00:00:00","00:00:00","00:00:00","00:00:00","01:11:14"]
["Del_Ravinder Kaur (1008611)","00:38:25","00:30:57","00:00:00","00:00:00","00:00:00","00:00:00","00:00:00","01:09:28"]
["Del_Rekha Agarwal (1008612)","00:21:26","00:48:36","00:00:00","00:53:33","00:00:00","00:00:00","00:31:25","02:41:42"]
["Del_Rekha Gupta (1008613)","00:39:54","00:29:13","00:00:00","00:00:00","00:00:00","00:00:00","00:41:04","01:50:37"]
["Del_Rekha Jain  (1008614)","00:37:35","00:38:20","00:00:00","00:00:00","00:00:00","00:00:00","00:19:57","01:36:57"]
["Del_Renu Pratap (1008615)","00:38:05","00:30:03","01:18:15","00:00:00","02:37:00","00:00:00","00:03:35","05:07:55"]
["Del_Ritu Bhatnagar (1008616)","00:42:29","00:29:37","00:00:00","00:00:00","00:00:00","00:00:00","00:00:00","01:13:20"]
["Del_Rohit Nishchal (1008617)","00:39:58","00:29:27","00:00:00","00:00:00","00:00:00","00:00:00","07:06:42","08:17:00"]
["Del_Roli Bhatnagar (1008618)","00:39:45","00:26:41","01:03:42","00:00:00","00:00:00","00:00:00","00:00:00","02:10:16"]
["Del_Roma Rastogi (1008619)","00:28:00","00:25:27","00:00:00","00:00:00","00:00:00","00:00:00","00:00:00","00:53:47"]
["Del_Roohi Haider (1008620)","00:39:10","00:29:57","00:00:00","00:00:00","00:00:00","00:00:00","00:00:00","01:09:24"]
["Del_Sajid Naqvi (1008621)","00:40:48","00:27:41","00:00:00","00:00:00","00:00:00","00:00:00","00:00:00","01:08:40"]
["Del_Salim (1008622)","00:39:49","00:29:18","00:00:00","00:00:00","00:00:00","00:00:00","00:48:57","01:59:29"]
["Del_Sanjay Hire (1008623)","00:39:16","00:29:44","00:00:00","00:00:00","00:00:00","00:00:00","00:00:00","01:09:43"]
["Del_Sanjiv Subherwal (1008624)","00:40:08","00:29:42","00:00:00","00:00:00","00:00:00","00:00:00","00:00:00","01:10:15"]
["Del_Sanju Ramdas (1008625)","00:39:47","00:29:56","00:00:00","00:00:00","00:00:00","00:00:02","00:04:02","01:13:56"]
["Del_Santosh Kumar (1008626)","00:39:52","00:29:34","00:00:00","00:00:00","00:00:00","00:00:00","00:00:00","01:09:48"]
["Del_Santosh Kumar (1008627)","00:40:01","00:30:20","00:00:00","00:00:00","00:00:00","00:00:00","00:00:00","01:10:58"]
["Del_Santosh Kumar (1008628)","00:41:46","00:28:09","00:00:00","00:00:00","00:00:00","00:00:00","00:00:00","01:12:01"]
["Del_Sapna Sharma (1008629)","00:38:46","00:29:34","00:00:00","00:00:00","00:00:00","00:00:00","00:23:22","01:32:37"]
["Del_Saroj Parita (1008630)","00:42:28","00:25:06","00:00:00","00:00:00","00:00:00","00:00:00","00:31:53","01:45:37"]
["Del_Shailaja Kamal (1008631)","00:38:40","00:29:05","00:00:00","00:00:00","00:00:00","00:00:00","00:00:00","01:08:46"]
["Del_Shailendra Barge (1008632)","00:39:40","00:29:48","00:00:00","00:00:00","02:31:25","00:00:00","00:00:00","03:43:06"]
["Del_Shankar Attendant (1008633)","00:39:24","00:30:43","01:23:39","00:00:00","00:00:00","00:00:00","00:40:50","03:15:05"]
["Del_Shashikant Tiwari (1008634)","00:39:24","00:29:29","00:00:00","00:00:00","00:00:00","00:00:00","00:00:00","01:09:59"]
["Del_Sheeba Joseph (1008635)","00:35:25","00:15:56","00:00:00","00:00:00","00:00:00","00:00:00","00:00:00","00:55:39"]
["Del_Sheena Joseph (1008636)","00:41:10","00:29:22","00:00:00","00:00:00","00:00:00","00:00:00","00:29:57","01:41:30"]
["Del_Shephali Jain (1008637)","00:39:39","00:14:27","00:00:00","00:00:00","02:28:42","00:00:00","00:00:00","03:23:49"]
["Del_Shivji Prasad (1008638)","00:39:24","00:31:02","00:00:00","01:05:37","00:00:00","00:00:00","00:00:00","02:17:48"]
["Del_Shubhanjali Joshi (1008639)","00:39:30","00:29:45","00:00:00","00:00:00","00:00:00","00:09:13","00:00:00","01:19:32"]
["Del_Shyamal Malakar (1008640)","00:39:28","00:29:21","00:00:00","00:52:47","02:31:52","00:00:00","00:00:00","04:35:37"]
["Del_Sneh Khan (1008641)","00:39:49","00:29:51","00:00:00","00:00:00","00:00:00","00:00:00","00:00:00","01:09:51"]
["Del_Sonaram Munda (1008642)","00:39:48","00:29:45","00:00:00","00:00:00","00:00:00","00:00:00","00:47:26","01:57:15"]
["Del_Sudama Kumar (1008643)","00:39:05","00:15:16","00:00:00","00:00:00","00:00:00","00:00:00","03:40:36","04:36:20"]
["Del_Sudhir Kumar (1008644)","00:43:27","00:28:35","00:00:00","00:00:00","00:00:00","00:00:00","00:00:00","01:14:24"]
["Del_Sunil Kumar (1008645)","00:40:09","00:50:33","00:00:02","00:00:00","00:00:00","00:02:33","02:22:56","03:56:57"]
["Del_Sunil Kumar (1008646)","00:35:18","00:28:46","01:12:29","00:00:00","00:00:00","00:00:00","00:00:00","02:16:51"]
["Del_Sunita Chawla (1008647)","00:40:03","00:30:37","00:00:00","00:55:51","00:00:00","00:00:00","00:00:00","02:06:43"]
["Del_Sunita Madnani (1008648)","00:40:15","00:27:30","00:00:00","00:00:00","00:00:00","00:00:00","00:00:00","01:08:15"]
["Del_Surendra Kumar (1008649)","00:00:00","00:27:48","00:00:00","00:00:00","03:18:17","00:00:00","00:00:00","03:46:52"]
["Del_Surendranath Thakur (1008650)","00:39:42","00:29:22","01:05:59","00:00:00","00:00:00","00:00:00","00:00:00","02:17:05"]
["Del_Sushma Khandelwal (1008651)","00:40:10","00:30:01","00:00:00","00:00:00","00:00:00","00:00:00","00:00:00","01:10:21"]
["Del_Swarnlata Borse (1008652)","00:39:22","00:28:37","00:00:00","00:54:22","02:30:10","00:00:00","00:00:00","04:32:37"]
["Del_Syed Naved (1008653)","00:34:44","00:29:32","00:00:00","00:00:00","00:00:00","00:00:00","00:00:00","01:14:44"]
["Del_Syed Saqib (1008654)","00:37:49","00:30:51","00:00:00","00:00:00","00:00:00","00:00:00","03:54:15","05:03:34"]
["Del_Syed Sohail (1008655)","00:39:45","00:32:08","00:00:00","00:00:00","00:00:00","00:00:00","00:00:00","01:12:04"]
["Del_System Operator (1008656)","00:40:00","00:14:57","00:00:00","00:00:00","00:00:00","00:00:00","00:00:00","00:56:05"]
["Del_Tahira Qureshi (1008657)","00:43:30","00:22:35","00:00:00","01:06:22","00:00:00","00:00:00","01:47:33","04:02:30"]
["Del_Tapas Chakraborty (1008658)","00:34:07","00:35:28","00:00:00","00:00:00","00:00:00","00:00:00","00:00:00","01:12:11"]
["Del_Tariq Akhlaq (1008659)","00:00:00","00:14:54","00:00:00","00:00:00","00:00:00","00:00:00","00:00:00","00:15:03"]
["Del_Tasneem Khan (1008660)","00:40:06","00:29:10","01:06:50","00:00:00","00:00:00","00:00:00","00:00:00","02:16:51"]

{"sheet":"Efficiency","index":1,"n_rows":150,"n_cols":17,"rows_kept":150,"cut":false,"hidden":false,"merged":[]}
["Employee","Total Working Hours","Work Efficiency ","Attended Calls","Efficiency in Percentage","Active With Cust.","Active Time","Other","Not Working %","Call Keeping","Break During Calls","Non Break %","% Other Work","Long Time","Short Time Holds","Long Call Holds","No Hold"]
["Mum_Abdul Hamid (1008512)","08:15:43","04:57:59",98,0.69541034616880604,0.55697138822580095,0.57848905624852898,1.3448542514205001E-4,0.25683354066503,2.2492687355007899E-2,0,0.13858723060888301,3.46299969740779E-3,2,3,0,0]
["Mum_Afzal Husain (1008513)","08:15:36","04:58:34",23,0.70127226463104297,0.58027306967984904,0.58625907990314796,3.3629270917406502E-5,0.25373284907183202,1.6142050040355099E-2,0,0.14120930858219,2.6230831315577101E-3,2,1,0,0]
["Mum_Anamika Gupta (1008514)","08:16:57","04:49:35",28,0.67767853660439203,0.51708756749505302,0.54036288023610701,1.9653217962907098E-2,0.26454707046315901,2.27051681926418E-2,0,0.14870711339168899,4.0245497534963301E-3,6,3,4,1]
["Mum_Anikuttan (1008515)","08:09:56","04:17:32",29,0.72067534163518499,0.47720778337188702,0.49802694244114798,6.8036467546604999E-5,0.18356238944073999,2.7554769356374999E-2,0,0.28378010613688898,7.0077561573003103E-3,1,2,0,0]
["Mum_Anil Kumar (1008516)","07:20:41","03:19:44",93,0.77990368345698302,0.43288831738587802,0.43496842025642002,3.7820052191672E-4,0.113649256835974,1.7888884686660899E-2,0,0.419726939223176,1.3388298475851899E-2,0,4,0,0]
["Mum_Anita Dixit (1008517)","05:00:09","03:41:19",92,0.77595979664582504,0.65495030262646503,0.65761563662613098,8.5512799155977592E-3,0.16269642956299599,7.1186628907768307E-2,0,9.0343717030373694E-2,9.6063079571325396E-3,2,8,2,0]
["Mum_Anita Ghore (1008518)","08:16:38","04:12:46",26,0.75430219834875201,0.49476474931203401,0.50073830458419999,0,0.150547016578294,8.1213504262031E-3,0,0.32559232163232399,1.5001006778978501E-2,0,0,0,0]
["Mum_Anjali Deoram (1008519)","09:16:31","05:52:08",90,0.72351208821313595,0.55128627474469205,0.58183342816926698,8.6849749932616602E-3,0.22793567128867101,4.2226947381030798E-2,0,0.131472552484202,7.8464256835674307E-3,0,8,3,1]
["Mum_Anjali Sahay (1008520)","08:13:18","04:52:29",89,0.68246869409660105,0.55206432867085597,0.57530914250962895,7.0950739914859098E-4,0.26559226974795602,1.68930333130617E-2,0,0.135110480437867,6.3855665923373203E-3,4,0,0,0]
["Mum_Annu Latika (1008521)","08:20:41","04:58:07",54,0.69192681134192102,0.56868945774108703,0.58520022635731195,1.6643919976032801E-4,0.26120968010385798,1.0052927665523801E-2,0,0.13970906427881899,3.6616623947272101E-3,2,0,0,0]
["Mum_Anoop Narayan (1008522)","08:10:35","04:55:28",87,0.70101625212542995,0.56035332087650802,0.56901647698318303,1.06675726176321E-2,0.24987260064549,2.2592152199762201E-2,0,0.14115848479700999,6.6927127569220302E-3,2,3,3,0]
["Mum_Anoop Raj (1008523)","08:04:10","03:47:42",65,0.71237876733757399,0.41552495697073999,0.42578313253012001,0,0.146161790017212,4.4509466437177299E-2,0,0.37445783132530103,9.08777969018933E-3,0,8,0,0]
["Mum_Anubhuti Gupta (1008524)","08:14:38","04:43:40",85,0.76961338458060102,0.50026955994339195,0.51627468158231704,1.3477997169620599E-4,0.16628479008019401,5.7079318013343198E-2,0,0.25611564121571501,4.1107891367342803E-3,1,9,0,0]
["Mum_Arun Kumar (1008525)","07:59:50","04:40:27",65,0.68466452374171005,0.51396318166029897,0.53136505731156702,8.7877735324765494E-3,0.26231330323028801,4.4320944772490399E-2,0,0.14706495310871801,6.1479680444598804E-3,1,8,3,1]
["Mum_Ashish Kumar (1008526)","08:16:59","04:57:35",83,0.69277926512241494,0.510580502364264,0.53895167510647601,2.8069351755592099E-2,0.236694724839867,3.17582749253831E-2,0,0.15490123746604501,9.6247359066367107E-3,2,4,7,0]
["Mum_Ashok Kumar (1008527)","08:17:15","04:10:25",82,0.707991706719442,0.48292274174627098,0.48536953242835601,2.0110608345902501E-4,0.203251215015921,1.8032512150159202E-2,0,0.29026311379252601,2.88252052957935E-3,2,1,0,0]
["Hyd_Ashok Kumar (1008528)","07:53:01","04:44:12",81,0.67538022813688203,0.57362319861879396,0.586131566893344,0,0.27373947359148698,1.4692928367569901E-2,0,0.11941087347168899,6.0251576759099397E-3,1,1,0,1]
["Hyd_Ashok Kumar (1008529)","08:16:43","04:58:07",80,0.69849265854420495,0.56430560681810604,0.59161829346038997,0,0.25480656309767502,8.5561856188974307E-3,0,0.14116028587726101,3.85867194577727E-3,2,0,0,0]
["Hyd_Ashok Kumar (1008530)","08:21:16","04:23:03",79,0.76545904263058295,0.46974331693044302,0.47862082723766403,2.1379172762335402E-2,0.14938821651815401,2.4770581194307799E-2,0,0.31952387285543299,6.3173294321053298E-3,6,5,3,0]
["Hyd_Ashok Mahto (1008531)","08:17:52","04:58:14",78,0.69862960215515602,0.57495313336904097,0.58205008034279604,3.84975897161221E-3,0.24769014461703301,1.3122656668452099E-2,0,0.14963845741831799,3.64890198178897E-3,4,1,1,0]
["Hyd_Atul Kumar (1008532)","08:13:41","04:53:40",77,0.68750243864372396,0.57945376590932096,0.58620573241956697,1.01279497653692E-4,0.255865770905776,8.5412376354613295E-3,0,0.13568076702339499,1.36052125181459E-2,2,0,0,0]
["Hyd_Azam (1008533)","08:17:34","04:59:50",76,0.69910231997823802,0.588296375695049,0.58993769679105001,1.0048904669391E-4,0.25467274067126699,1.25611308367388E-2,0,0.140249212835801,2.47872981844979E-3,3,1,0,0]
["Hyd_Bhagwat Singh (1008534)","07:41:44","04:08:57",75,0.74890950112810195,0.46267686976609901,0.46527577245163099,4.4397920877851599E-3,0.17622004042737499,6.9448455096736902E-2,0,0.28219751660409997,2.41842333237078E-3,1,7,1,0]
["Hyd_Bindu Nair (1008535)","08:10:04","04:14:05",74,0.70775301764159704,0.478030199972793,0.49663311114134101,1.1563052645898501E-3,0.21000544143653899,2.0677458849136202E-2,0,0.26788872262277202,3.6389606856210002E-3,1,2,0,1]
["Hyd_Daleep Singh (1008536)","08:14:20","05:26:56",73,0.76297160637884098,0.59983142279163904,0.60182063385030304,1.49359406608227E-2,0.17107215104517901,4.46055293324343E-2,0,0.147471341874578,2.00944032366824E-2,1,4,1,1]
["Hyd_Deepak Kumar (1008537)","07:35:57","05:05:16",72,0.71468706102700197,0.65029060203969702,0.65098512263771602,0,0.25788646415908201,1.8532733852396101E-2,0,6.6893299703914902E-2,5.7023796468911097E-3,1,3,0,0]
["Hyd_Deepika Nigam (1008538)","08:16:59","04:56:45",71,0.69474793194942996,0.55001844461584903,0.57443240886683,1.23075891210302E-2,0.25279184412622802,1.0362520540594901E-2,0,0.14420336027365099,5.9022770716657203E-3,1,0,5,0]
["Hyd_Dinesh Kumar (1008539)","08:13:53","05:06:20",70,0.72208690186218305,0.51334660682347399,0.54388688286707398,7.9303479229237694E-3,0.232038605608612,6.8437215266763399E-2,0,0.141835116255526,5.8718320791009996E-3,0,11,1,1]
["Hyd_Hari Kumar (1008540)","08:15:11","04:11:43",69,0.76097143145059698,0.43603379219817601,0.44983339503887398,4.2745111238261897E-3,0.15681060886540299,5.4222341893574798E-2,0,0.33294066170778502,1.91848137053616E-3,1,11,2,0]
["Hyd_Heeramani Choudhary (1008541)","07:27:24","04:35:28",68,0.70364851632679104,0.52954105200417201,0.54116376098941998,1.8141856653255801E-2,0.19870362092087601,5.6399940396364201E-2,0,0.17955595291312801,6.0348681269557503E-3,5,5,3,1]
["Hyd_Indra Pal (1008542)","07:59:57","05:14:16",67,0.76491825889416298,0.56446852102649603,0.58658888078619298,3.61148730770566E-3,0.18918637358058099,6.4590061464735907E-2,0,0.14428586311074099,1.17373337500434E-2,0,9,1,1]
["Hyd_Indra Singh (1008543)","08:17:44","05:05:03",66,0.82688050598599505,0.49789043664612898,0.51356147870345603,3.3485132601125101E-3,0.123660594695955,9.5968390034824505E-2,0,0.25964371818912402,3.8173051165282601E-3,1,15,1,0]
["Hyd_Jagdish Chandra (1008544)","08:19:10","04:59:15",65,0.69531038221740304,0.56270450751252099,0.57616026711185298,1.40233722871452E-3,0.23966611018363901,2.1936560934891498E-2,0,0.13833055091819699,2.2504173622704501E-2,2,1,0,0]
["Hyd_Jairaj Vatham (1008545)","08:16:23","05:02:08",64,0.70567168827124405,0.57680556021891705,0.58597186314340399,1.00728603565793E-4,0.245744216499345,2.2596783399926101E-2,0,0.140885740187355,4.7006681664036503E-3,2,2,0,0]
["Hyd_Janardan Mishra (1008546)","07:39:42","04:32:56",63,0.72876151484135099,0.55728373576970502,0.57762308752084701,7.2511057936335303E-4,0.20379232833006999,1.53723442825031E-2,0,0.191755492712639,1.07316365745776E-2,2,1,0,0]
["Hyd_Jitendra Kumar (1008547)","08:11:27","04:07:41",62,0.73569306930693101,0.47590463594126198,0.48970732865330502,5.76525248414556E-4,0.17604368026587999,1.3700952962322399E-2,0,0.31580018313154901,4.1713297385288402E-3,1,1,0,0]
["Hyd_John D'Costa (1008548)","08:09:47","04:51:30",61,0.69341474051461005,0.55636846224520997,0.57103481131112399,0,0.25923027188893,2.41263143566883E-2,0,0.14210365127437299,3.5049511688842001E-3,2,3,0,0]
["Hyd_Julie S (1008549)","08:15:46","04:56:12",60,0.69527796252102803,0.527970147246689,0.54340079338398395,3.52988637127681E-3,0.25667316613998498,5.0527802057419503E-2,0,0.14267464533046501,3.1937067168695001E-3,1,11,1,0]
["Hyd_Jyoti Tulsani (1008550)","08:15:19","04:56:56",59,0.69738129721689401,0.565025741108382,0.57508664490729799,6.7297015377368002E-5,0.25438271812645102,2.4327871058918499E-2,0,0.14223224200006701,3.9032268918873401E-3,1,4,0,0]
["Hyd_Kahkasha Parveen (1008551)","08:17:24","05:25:18",58,0.76123244929797196,0.48579278917035301,0.51601661975606505,1.0052271813429799E-3,0.20158155743198,0.13697895724433701,0,0.141133896260555,3.2837421257204099E-3,1,3,0,1]
["Hyd_Kailash Nath (1008552)","08:16:01","04:58:27",57,0.695039590125757,0.572258996673499,0.58418735929572296,3.3601021471052698E-5,0.24081852088303499,1.7472531164947399E-2,0,0.136420147172474,2.10678404623501E-2,3,1,0,0]
["Hyd_Kalpana Agrawal (1008553)","08:00:08","03:54:19",56,0.69664535949655604,0.46542627048042201,0.47490280477645103,3.01999444598723E-3,0.207581227436823,1.01013607331297E-2,0,0.30179116911968901,2.6034434879200199E-3,1,1,1,2]
["Hyd_Kamini Kumar (1008554)","05:01:37","03:21:30",55,0.70266186214111404,0.64380836602751801,0.65602033486213196,2.2103111012875101E-4,0.27954909653533699,1.18251643918882E-2,0,4.9731999778968902E-2,2.6523733215450102E-3,1,0,0,0]
["Hyd_Kamini Tiwari (1008555)","08:26:46","05:18:49",54,0.723596610682403,0.57347234098533195,0.587120962967835,8.5509438926527695E-4,0.231237255804775,4.11431954219562E-2,0,0.137637308425968,2.0061829901993002E-3,7,6,0,0]
["Hyd_Kavita Sharma (1008556)","07:53:25","05:26:19",53,0.77997769102063597,0.64717479317021698,0.671043830311565,2.11230417180074E-3,0.178067241682802,1.60535117056856E-2,0,0.118957929941912,1.3765182186234799E-2,3,2,1,2]
["Hyd_Kiran Khubchandani (1008557)","08:01:28","04:13:15",52,0.72041532334534397,0.50443090556632497,0.51128496261423395,5.98864580448629E-3,0.19776377734699499,8.7233453337025799E-3,0,0.27083910274162298,5.4001661589587399E-3,3,0,1,0]
["Hyd_Kisun Sah (1008558)","08:21:34","05:08:41",51,0.71393878652378395,0.55280122283511701,0.56732238984515204,5.0176114840167502E-3,0.23931680733701099,4.3098292018342498E-2,0,0.138499368644913,6.7455306705655601E-3,5,8,2,0]
["Hyd_Krishana Kumar (1008559)","08:15:28","04:45:06",50,0.66945835942391996,0.55493137782561897,0.56529198062432695,2.35468245425188E-4,0.28081270182992502,9.8896663078579094E-3,0,0.14077637244348801,2.99381054897739E-3,3,0,0,0]
["Hyd_Kunj Bihari (1008560)","07:59:19","04:42:13",49,0.68951054646143795,0.55217497131332804,0.55662575193852304,0,0.26224833965019601,3.2163844361764997E-2,0,0.14642372822420799,2.5383358253068598E-3,0,3,0,2]
["Hyd_Leena George (1008561)","04:56:13","03:10:50",48,0.67908190498784204,0.58819557756147001,0.61205198897203605,1.1196759129015899E-2,0.28644573229055298,2.0986890226748399E-2,0,6.1328982163956602E-2,7.9896472176897507E-3,2,2,3,0]
["Hyd_Lilly Lucy (1008562)","07:45:23","04:39:06",47,0.67342260827602896,0.55534863732407003,0.56333488522006903,5.0137879167711202E-4,0.23521827883823401,3.5884396375747599E-2,0,0.16058446442001201,4.4765963542599298E-3,1,6,0,0]
["Hyd_Mangal Singh (1008563)","08:00:13","04:46:25",46,0.69809481252792804,0.55815083469267301,0.57887064866553295,3.81772116752855E-4,0.25356609863603202,1.7179745253878501E-2,0,0.145906361711727,4.0953736160760802E-3,2,1,0,0]
["Hyd_Manisha Shrivastava (1008564)","08:09:49","04:51:12",45,0.69352597943873295,0.53002824185919895,0.56510939467147603,3.7769233386641299E-3,0.255912075946783,2.5009357242505699E-2,0,0.14321684984177799,6.9753989587941099E-3,1,3,1,1]
["Hyd_Manjusha Sinha (1008565)","08:14:05","05:04:01",44,0.71640091116173099,0.54639905548996504,0.55422499578343698,6.7465002529937596E-5,0.23875864395344901,6.1022094788328603E-2,0,0.142992072862203,2.9347276100522802E-3,1,9,0,0]
["Hyd_ManjuTiwari Lab (1008566)","07:41:28","04:26:11",43,0.67961702127659596,0.52849609939323905,0.52849609939323905,0,0.26820283155157498,4.83241837619185E-2,0,0.15335163247616301,1.6252528171048801E-3,0,7,0,0]
["Hyd_Manoj Kumar (1008567)","08:00:44","04:28:58",42,0.65449973638317704,0.53279711551795905,0.54420330051310495,1.04007765913188E-4,0.287685480515879,1.51851338233255E-2,0,0.14536818749133301,7.4538898904451499E-3,0,1,0,7]
["Hyd_Manoj Kumar (1008568)","07:55:23","04:29:51",41,0.66536533245664498,0.53150089401535605,0.53788170949759795,8.7648564316516499E-4,0.268134487957087,2.8888966798723801E-2,0,0.15983592188759899,4.3824282158258197E-3,0,1,0,0]
["Hyd_Masroor Adil (1008569)","08:10:04","05:04:35",40,0.72453712881100596,0.58954564004897303,0.59757175894436099,2.3806284859202801E-4,0.213406339273568,2.3704257924092E-2,0,0.146204598013876,1.8874982995510801E-2,0,3,0,1]
["Hyd_Meena Zinjare (1008570)","08:05:29","03:09:32",39,0.699298979215349,0.34903360911806097,0.35964159428747999,1.9499467884239102E-2,0.16433794500326099,1.1260256102166201E-2,0,0.442342682550036,2.9180541728174702E-3,2,1,4,0]
["Hyd_Mehnaz Khan (1008571)","08:14:51","04:08:21",38,0.67028023930547398,0.47933717288067101,0.48829611666835099,4.3784311744299602E-4,0.22687009531507901,1.31352935232899E-2,0,0.26755582499747399,3.7048263783638099E-3,1,1,0,0]
["Hyd_Mercy Thampi (1008572)","05:15:35","03:38:44",37,0.72721227904914898,0.62762080802746201,0.66421969897016098,0,0.25207288090837099,2.8888302086083999E-2,0,4.9379456033799798E-2,5.4396620015843703E-3,1,3,0,0]
["Hyd_Miny Mole (1008573)","08:12:10","04:14:06",36,0.70737252354660596,0.47561801557737898,0.49664747714189,1.7609210971892999E-3,0.210667118184897,1.7880121909922098E-2,0,0.27047070775482601,2.57365391127667E-3,2,1,0,0]
["Hyd_Mohd Rafi (1008574)","08:00:32","03:55:15",35,0.72855373180551297,0.43635543840177599,0.45310765815760301,3.1215316315205302E-3,0.176505271920089,3.33310210876804E-2,0,0.32980715871254201,4.1273584905660403E-3,0,6,1,0]
["Hyd_Mubeen Khan (1008575)","07:55:35","03:50:43",34,0.691562172153669,0.451270369721395,0.48782197301559499,1.43332749255301E-2,0.17928859295601901,1.27212195549325E-2,0,0.30411775013141801,1.71718941650604E-3,1,1,4,1]
["Hyd_Mukesh Nagar (1008576)","05:01:07","03:13:40",33,0.67656477438136797,0.61244257486024201,0.63070792051807201,0,0.25383295511152898,1.24536447667017E-2,0,9.8190070293906001E-2,4.8154093097913303E-3,3,0,0,0]
["Hyd_Nandu Kumar (1008577)","08:21:39","04:43:39",32,0.64365946825006604,0.51755872288115901,0.540516296222466,3.3223695139373401E-5,0.28263397455064898,2.4884547659390702E-2,0,0.14761287750423599,4.3190803681185403E-3,3,4,0,0]
["Hyd_Narayan Singh (1008578)","08:19:29","04:54:19",31,0.68047474085777004,0.55550735760285597,0.57048950582268299,1.0310654342820901E-2,0.263872668424038,8.1417464713537304E-3,0,0.13704160966331899,1.0143815275784999E-2,3,0,5,1]
["Hyd_Neeraj Saxena (1008579)","08:21:13","04:36:09",30,0.75293101881305102,0.45535862734013899,0.46892561433844299,4.0900475509593297E-2,0.17567253017657,4.1133242443387799E-2,0,0.26994313836331602,3.42499916868952E-3,6,8,6,0]
["Hyd_Neeru Mehta (1008580)","08:02:20","04:44:15",29,0.68920229532045596,0.53445058742225304,0.55725639253628201,1.3994471319972401E-2,0.25884588804422898,1.8071872840359399E-2,0,0.14523151347615701,6.5998617829993098E-3,1,2,2,1]
["Hyd_Nikita Panwalkar (1008581)","08:16:46","04:58:45",28,0.74780976220275297,0.55914916459773201,0.57495135207676296,9.2263302690733396E-3,0.19673891162853099,1.5768637187143501E-2,0,0.19610145608266799,7.2133127558209704E-3,3,1,2,2]
["Hyd_Nitin Bhatia (1008582)","08:00:37","04:44:56",29,0.69346529834097304,0.56847106148351101,0.56871380518084402,7.1089225647605501E-3,0.25838332697576,1.7026736484377698E-2,0,0.14540347470263901,3.3637340916184101E-3,1,0,1,0]
["Hyd_Om Prakash (1008583)","07:55:44","04:26:21",30,0.70033743809982896,0.47509108744394601,0.48952494394618801,1.3663116591928299E-2,0.23584641255605401,5.6684417040358703E-2,0,0.201898822869955,2.3822869955157002E-3,1,8,4,0]
["Hyd_Omprakash O (1008584)","08:09:43","04:02:05",31,0.67214252660805196,0.47578531804104401,0.48072014430112597,0,0.234489330565293,1.3613313820916901E-2,0,0.26933941394684002,1.8377973658237801E-3,0,1,0,0]
["Hyd_Owais Mohd (1008585)","08:01:11","04:02:50",32,0.72491168714861398,0.46898271622042897,0.48404973849191202,0,0.187870181150636,2.0608915520764801E-2,0,0.304319213051159,3.1519517855287298E-3,0,3,0,1]
["Hyd_Pankaj Shelkey (1008586)","08:15:54","04:26:54",33,0.70116905293576803,0.51361161524500898,0.52060227196343301,2.0501445183840799E-3,0.21583652618135399,2.3156550379780899E-2,0,0.23277542515292099,5.5790818041271803E-3,2,1,1,0]
["Hyd_Partha Sarathi (1008587)","08:32:22","05:11:39",34,0.75159773302785504,0.525112224318522,0.55123284106434201,5.4323075922191096E-3,0.196603994535164,5.1590657732092898E-2,0,0.19263548240192599,2.50471667425672E-3,3,12,2,0]
["Hyd_Prabha Desikan (1008588)","08:21:49","03:03:51",35,0.73398097012442598,0.348600086352918,0.348600086352918,0,0.13109037164967299,1.7768773456441601E-2,0,0.501046198810987,1.49456972998107E-3,0,3,0,0]
["Hyd_Pramod Tiwari (1008589)","08:25:20","02:54:03",36,0.71205509341333695,0.314709762532982,0.323779683377309,3.2981530343007901E-5,0.137598944591029,2.0613456464379901E-2,0,0.51668865435356204,1.28627968337731E-3,1,1,0,1]
["Hyd_Prasannakumari S (1008590)","08:08:02","05:10:46",37,0.74354986641145304,0.55600710333993597,0.56334949798511003,6.8301345536507104E-5,0.216378662659654,7.3355645106208595E-2,0,0.144286592445871,2.5613004576190198E-3,1,12,0,0]
["Hyd_Praveen Kumar (1008591)","08:19:20","04:08:46",38,0.72713986456861701,0.46221628838451301,0.46929238985313698,1.0013351134846499E-4,0.17523364485981299,2.8805073431241699E-2,0,0.31535380507343103,1.1214953271028E-2,2,5,0,1]
["Hyd_Rachel Mathew (1008592)","08:25:36","03:40:53",39,0.72254934031185303,0.39075685654008402,0.39481144514767902,1.8130274261603399E-3,0.16561181434599101,4.02492088607595E-2,0,0.39560258438818602,1.9119198312236301E-3,3,5,1,0]
["Hyd_Rachita Anupam (1008593)","08:16:26","05:16:03",40,0.73840582531832899,0.54713623850130899,0.55885315248774603,3.05512656952931E-3,0.21963338481165601,7.4733096085409303E-2,0,0.13805143355939001,5.6738064862687197E-3,0,8,1,0]
["Hyd_Rachna Chauhan (1008594)","07:36:07","05:07:23",41,0.72135956506434096,0.61457229509993805,0.61786092739430698,1.46161435305295E-4,0.256294076807834,5.5906749004275197E-2,0,6.6503453063909104E-2,3.2886322943691299E-3,4,6,0,0]
["Hyd_Raj Kumar (1008595)","08:09:57","05:03:51",42,0.71945540647198103,0.55335578460387103,0.56638432493111501,2.0410245943463601E-4,0.23444569173725199,5.3576895601591998E-2,0,0.14028642378473999,5.1025614858658998E-3,1,7,0,0]
["Hyd_Rajeev Garg (1008596)","08:04:00","05:05:29",43,0.729077167859984,0.611363636363636,0.61907713498622596,0,0.22534435261708,1.20867768595041E-2,0,0.14132231404958701,2.1694214876033001E-3,2,1,0,0]
["Hyd_Rajeev Kumar (1008597)","07:59:43","04:28:51",44,0.70183605986773401,0.51217732689434703,0.53271028037383195,2.7446756766146699E-3,0.23548622450752199,2.4980022930201899E-2,0,0.202411145467811,1.66765104401904E-3,2,4,1,0]
["Hyd_Rajendra Gupta (1008598)","08:25:57","04:58:12",45,0.69814265646948603,0.56029910728991705,0.57551800243765805,5.6000263530651896E-4,0.24989294067266199,1.3308297921402E-2,0,0.15640544190796199,4.3153144250090598E-3,1,1,0,0]
["Hyd_Rajendra Kumar (1008599)","08:14:44","03:55:22",46,0.68410599234607405,0.42891793558819602,0.44444818757579801,2.0212909311413601E-4,0.21048376229618601,3.10941921573912E-2,0,0.31181781431074002,1.9539145667699801E-3,1,4,0,0]
["Hyd_Rajendra Prasad (1008600)","08:22:34","00:48:33",47,0.64120625137574305,9.4547987000066294E-2,9.4547987000066294E-2,0,4.6428334549313499E-2,2.05611195861246E-3,0,0.85225840684486298,4.70915964714466E-3,1,0,0,0]
["Hyd_Rajesh Kumar (1008601)","08:00:39","05:11:50",48,0.76121892672606695,0.61021533340268397,0.61770519088733999,2.01116543569472E-3,0.19428551614133599,2.9057873019175399E-2,0,0.149935850757655,7.0044037587988503E-3,1,5,1,0]
["Hyd_Rajesh Kumar (1008602)","08:17:39","04:49:40",49,0.771724168553794,0.51260926353863201,0.53709099434006502,0,0.15596637529723001,4.4978063565424199E-2,0,0.25436216886030999,7.6023979369704304E-3,3,8,0,1]
["Hyd_Rajesh Sharma (1008603)","05:04:31","03:24:21",50,0.70603478060578095,0.62426796562859199,0.62596464342400504,0,0.243883750205243,4.50987904329265E-2,0,8.0291171802309699E-2,4.7616441355153001E-3,1,4,0,0]
["Hyd_Raji Abraham (1008604)","08:10:41","04:44:35",51,0.67540840947747305,0.54373153085832704,0.55762372202031196,3.3966237559865503E-5,0.27590774769878701,2.2315818076831601E-2,0,0.141571278149519,2.5474678169899101E-3,2,3,0,0]
["Hyd_Rajshree Dhabekar (1008605)","08:15:13","0",52,null,null,0,0,1.34621209571568E-4,0,0,0.99986537879042803,0,"0","0","0","0"]
["Hyd_Rakhi Jodhani (1008606)","08:02:52","01:13:06",53,0.87790232185748596,0.14431174927516199,0.148936904597542,0,1.6360624050807699E-2,2.45064199917161E-3,0,0.82783377053706997,4.4180588154079797E-3,1,0,0,0]
["Hyd_Ramji Prasad (1008607)","08:19:26","04:53:04",54,0.68049535603715205,0.55259293866381898,0.56517386371220701,5.3393846359207095E-4,0.26326503370486498,2.1090569311886801E-2,0,0.14770072749115701,2.2358673162917999E-3,4,4,0,0]
["Del_Rashid (1008608)","08:02:10","01:36:08",55,0.70085054678007297,0.18938817836156199,0.19450397511233999,5.1849291393017596E-4,8.3961285862426502E-2,4.35534047701348E-3,0,0.71596958174904901,6.9132388524023505E-4,0,0,0,0]
["Del_Rashmi Gajbe (1008609)","08:20:42","04:16:57",56,0.68072235959025096,0.47077424938419499,0.47776446308501402,2.39664469742361E-3,0.23280740296917601,3.3020438053391901E-2,0,0.24958391585114201,4.4271353438519404E-3,0,5,1,1]
["Del_Ravi Kumar (1008610)","08:00:44","04:47:03",57,0.69796563462473704,0.53862155040909698,0.54503536264040997,1.9761475523505799E-3,0.251768132020524,5.0097073914852297E-2,0,0.14817639717098899,2.94688670087366E-3,0,6,0,2]
["Del_Ravinder Kaur (1008611)","08:01:53","04:38:57",58,0.67621510242010396,0.53294365856189296,0.54141735551481995,7.2631688167952102E-4,0.27454778127485902,3.6730882302078598E-2,0,0.14415660775429701,2.4210562722650699E-3,3,8,0,2]
["Del_Rekha Agarwal (1008612)","05:53:52","02:53:07",59,0.87051625879986605,0.41310286360211002,0.42214581763376002,1.8745290128108501E-2,4.95007535795026E-2,4.8323285606631503E-2,0,0.45695177091183098,4.3330821401657898E-3,0,6,2,0]
["Del_Rekha Gupta (1008613)","08:16:02","04:22:52",60,0.68126646797114598,0.50483838451717,0.51501915193871395,1.3439956992137599E-4,0.24420401854714099,1.4783952691351399E-2,0,0.22300248639204401,2.85599086082925E-3,2,1,0,0]
["Del_Rekha Jain  (1008614)","08:15:42","04:25:29",61,0.66398499374739495,0.52390558805729304,0.52800753143702495,0,0.26605473740837898,7.5650595118014899E-3,0,0.19558200524510799,2.79066639768677E-3,5,0,0,0]
["Del_Renu Pratap (1008615)","08:16:30","02:30:29",62,0.79396763981709495,0.25444780127559602,0.27710641154749899,0,7.51258811681772E-2,2.5981873111782499E-2,0,0.62017455521987197,1.6112789526686799E-3,1,4,0,1]
["Del_Ritu Bhatnagar (1008616)","08:01:48","04:52:13",63,0.71324546416076795,0.55517503805174995,0.56316590563165903,0,0.239380102393801,4.3344402933444E-2,0,0.15220700152207001,1.9025875190258801E-3,3,5,0,1]
["Del_Rohit Nishchal (1008617)","08:17:09",null,64,null,null,0,0,3.0171980287639502E-4,0,0,0.99969828019712303,0,"0","0","0","0"]
["Del_Roli Bhatnagar (1008618)","08:15:43","04:08:30",65,0.67973558240255305,0.477120667047709,0.47967589012540801,1.0758834011364001E-3,0.23333221262145701,2.0542648690448199E-2,0,0.26278452072756597,2.5888444339844702E-3,3,3,1,0]
["Del_Roma Rastogi (1008619)","08:31:02","05:35:38",66,0.73349116736477904,0.61917030852521004,0.62725849585806503,8.80568782205988E-4,0.23256799947818099,2.86347922509947E-2,0,0.105244276302916,5.4138673276368102E-3,4,4,0,1]
["Del_Roohi Haider (1008620)","08:00:11","04:52:11",67,0.71079305870904996,0.55305265350039901,0.56457602998854595,3.4708965325743603E-5,0.24383048141334901,4.3872132171739998E-2,0,0.14452813161639599,3.1585158446426698E-3,1,7,0,0]
["Del_Sajid Naqvi (1008621)","08:15:48","05:00:37",68,0.70349857638753499,0.56195374478956595,0.56595401371520804,1.3446282102998501E-4,0.25248756218905499,4.0237999193223101E-2,0,0.13849670566088501,2.6892564205997001E-3,3,6,0,0]
["Del_Salim (1008622)","08:15:56","04:37:42",69,0.73491531404375399,0.48780077967468699,0.50467132679123505,7.79674687457992E-3,0.19612851189676,4.74862212662992E-2,0,0.24092619975803201,2.9909934130931599E-3,2,6,1,2]
["Del_Sanjay Hire (1008623)","08:15:52","05:00:14",70,0.70334218335155396,0.55414762032804499,0.56332347405216399,1.1091691314869599E-3,0.245899435332078,4.1039257865017498E-2,0,0.14059559021242299,8.0330734068297903E-3,3,7,1,0]
["Del_Sanjiv Subherwal (1008624)","08:02:17","05:06:07",71,0.74219097264314904,0.58651553374572396,0.59615716902235905,6.9115665065487103E-5,0.21750699796108799,3.8497425441476302E-2,0,0.145661264125514,2.10802778449736E-3,2,6,0,0]
["Del_Sanju Ramdas (1008625)","08:15:58","05:19:44",72,0.75727312201476304,0.58165871362322696,0.591572014248269,3.0243968008602699E-4,0.203609113515693,5.2792526379460997E-2,0,0.14906915787351299,2.65474830297735E-3,3,9,0,4]
["Del_Santosh Kumar (1008626)","08:00:32","05:03:10",73,0.73745236357739397,0.59073251942286398,0.60477941176470595,1.3873473917868999E-4,0.21885405105438399,2.59780799112098E-2,0,0.145255271920089,4.9944506104328502E-3,2,4,0,0]
["Del_Santosh Kumar (1008627)","08:17:04","05:09:57",74,0.72636019216498104,0.58640692060085797,0.58717811158798305,1.5088519313304701E-3,0.23226260729613701,3.4871244635193102E-2,0,0.14277092274678099,1.4082618025751099E-3,4,4,1,0]
["Del_Santosh Kumar (1008628)","08:02:59","04:44:19",75,0.68830697224015502,0.54653369681493502,0.54957037854998403,4.8310845784878698E-4,0.26067152075640998,3.8614168880913798E-2,0,0.149107974740329,1.55284861451396E-3,2,6,0,2]
["Del_Sapna Sharma (1008629)","08:04:14","04:33:29",76,0.69671365489130399,0.53238796723342696,0.55586149927720796,6.8837337371790503E-5,0.24199765953052901,8.8455978522750701E-3,0,0.19126454188752001,1.9618641150960302E-3,1,0,0,0]
["Del_Saroj Parita (1008630)","08:01:59","04:31:42",77,0.71026490066225201,0.47020989660776702,0.48556312458937001,1.95027490577129E-2,0.209827449081918,5.81970330924306E-2,0,0.21912929216086299,7.7803520177046198E-3,1,7,3,2]
["Del_Shailaja Kamal (1008631)","08:09:14","04:51:46",78,0.69223773182015902,0.54633099407235797,0.56847448388635302,0,0.25962390134223601,2.79007971656333E-2,0,0.140560059957757,3.44075764802071E-3,0,2,0,0]
["Del_Shailendra Barge (1008632)","08:17:38","03:26:09",79,0.74489611562782299,0.38820416638756799,0.38914193850894202,0,0.13614441690669199,2.5118896108245699E-2,0,0.44832205773996903,1.27269073615112E-3,2,3,0,0]
["Del_Shankar Attendant (1008633)","07:57:56","03:27:15",80,0.73147058823529398,0.40277584042404802,0.41396987027479398,2.4410656995396801E-4,0.15385688380527299,1.94239084949086E-2,0,0.40818105733017102,4.3241735248988698E-3,1,1,0,0]
["Del_Shashikant Tiwari (1008634)","08:14:55","05:19:10",81,0.74915890775369698,0.54352584610203702,0.57595554807206595,6.7351405960599405E-5,0.208823034180839,6.8866812594712903E-2,0,0.141404276814278,4.8829769321434603E-3,1,10,0,0]
["Del_Sheeba Joseph (1008635)","08:30:57","03:41:07",82,0.481106759501015,0.28371986821932998,0.310467429950745,1.9571386632742899E-3,0.44612975829337498,0.120331408813648,0,0.10891476661121401,1.2199497667743101E-2,0,13,0,2]
["Del_Sheena Joseph (1008636)","08:49:34","05:10:26",83,0.72348028743445303,0.56196890539434796,0.56445521495562401,2.92692138226223E-3,0.217378989110593,1.8820419210675399E-2,0,0.191666142128784,4.75231321206017E-3,1,2,1,0]
["Del_Shephali Jain (1008637)","08:25:43","03:41:29",84,0.73116918844566703,0.40332201825791802,0.406321062518538,3.2956530336486201E-5,0.15772995419042299,3.1605312592690199E-2,0,0.40302540948488902,1.28530468312296E-3,0,5,0,0]
["Del_Shivji Prasad (1008638)","08:11:40","04:12:39",85,0.71045601537235803,0.43796610169491501,0.466440677966102,6.5084745762711898E-3,0.20183050847457601,4.0915254237288097E-2,0,0.280271186440678,4.0338983050847398E-3,0,6,1,1]
["Del_Shubhanjali Joshi (1008639)","08:17:17","04:54:52",86,0.688887158321003,0.55581995508931903,0.55970774541676405,6.03277809431243E-4,0.24472969802594099,3.26440325770017E-2,0,0.159935650366994,2.3795958038676799E-3,4,4,0,0]
["Del_Shyamal Malakar (1008640)","08:15:36","02:53:35",87,0.78143757503001199,0.326035781544256,0.34315308044121601,1.0088781275222E-3,8.7772397094431007E-2,6.0868980360505804E-3,0,0.55612725316115097,5.8514931396287297E-3,0,0,0,0]
["Del_Sneh Khan (1008641)","08:09:15","05:06:25",88,0.73028798411122098,0.57404190086867701,0.58286492931357503,3.4065746891500599E-5,0.229024016351558,4.3399761539771799E-2,0,0.142769545222279,1.90768182592403E-3,4,4,0,2]
["Del_Sonaram Munda (1008642)","08:00:41","04:11:10",89,0.69058748052424201,0.45359037481363301,0.48354772719392503,8.2521410492007903E-3,0.230227800700392,3.0720155334419699E-2,0,0.24392358101314099,3.3285947089213299E-3,1,6,1,0]
["Del_Sudama Kumar (1008643)","08:09:47","02:38:49",90,0.73925523661753301,0.29689998979140397,0.30159594378466698,0,9.0992615782488906E-2,2.2663082315309498E-2,0,0.56419505223398103,2.0553305883554002E-2,1,4,0,1]
["Del_Sudhir Kumar (1008644)","08:00:18","04:35:36",91,0.67504898758981102,0.55729058227496697,0.56128114372961302,3.47005343882296E-5,0.26844333402734399,1.2492192379762601E-2,0,0.15490318550905699,2.8454438198348198E-3,1,0,0,0]
["Del_Sunil Kumar (1008645)","08:03:26","02:58:37",92,0.71513412518350505,0.33279321519685601,0.337688754050886,3.1028063159346299E-4,0.13476522098876101,3.1476246293870198E-2,0,0.49013997104047402,5.6195269944149502E-3,0,5,0,0]
["Del_Sunil Kumar (1008646)","08:05:06","04:05:03",93,0.70305551570793301,0.472308115165258,0.48069126640555199,5.5658627087198497E-3,0.210712567855425,1.8896447467875999E-2,0,0.28210678210678197,2.0270734556448798E-3,0,2,2,0]
["Del_Sunita Chawla (1008647)","08:05:25","04:31:57",94,0.75773195876288701,0.51110729613733896,0.51945064377682404,1.9570815450643802E-3,0.17438626609442101,3.8832618025751102E-2,0,0.26104721030042899,4.3261802575107304E-3,1,5,0,0]
["Del_Sunita Madnani (1008648)","08:14:02","05:19:12",95,0.74879774797669796,0.58886040078267299,0.59867755212198903,1.0120774576614299E-4,0.20703731192227201,4.7331489103299401E-2,0,0.13814857297078501,8.7038661358882705E-3,2,5,0,0]
["Del_Surendra Kumar (1008649)","07:29:10","02:54:25",96,0.78184534927157301,0.34289424860853401,0.345936920222634,0,0.103821892393321,4.2374768089053799E-2,0,0.50508348794063096,2.7829313543599201E-3,0,5,0,0]
["Del_Surendranath Thakur (1008650)","08:33:53","04:36:50",97,0.730752309722833,0.497486459313074,0.50004864917458602,2.5946226445691298E-4,0.19063989880971699,3.8400415139623098E-2,0,0.26675964064476398,3.8919339668536902E-3,0,6,0,1]
["Del_Sushma Khandelwal (1008651)","08:15:15","04:50:07",98,0.68252038895859501,0.52431431936732298,0.53575635201076899,1.6153457849570899E-2,0.26585899377418798,3.3888608446912299E-2,0,0.142049469964664,6.2931179538953403E-3,2,3,1,0]
["Del_Swarnlata Borse (1008652)","08:19:05","02:59:39",99,0.79292334853611901,0.31066956086157999,0.32963766905994302,1.1521122057104699E-2,9.1534479879779598E-2,1.8801135414927402E-2,0,0.54623476373351099,2.2708298547336799E-3,0,2,2,0]
["Del_Syed Naved (1008653)","08:13:39","05:24:05",100,0.75476458486977405,0.58462473412336702,0.59569870691110405,6.7524224315473205E-5,0.17384111550018599,5.8475978257199801E-2,0,0.15138931091529101,2.0527364191903801E-2,2,10,0,1]
["Del_Syed Saqib (1008654)","08:24:48","02:52:08",101,0.85263766201601598,0.31685816164817698,0.323230322239831,8.2540940306391995E-3,5.1406497622820901E-2,9.5087163232963502E-3,0,0.60136027469624898,6.2400950871632299E-3,3,1,2,0]
["Del_Syed Sohail (1008655)","08:17:53","04:51:52",102,0.68513302034428802,0.56375322197301903,0.565795199678639,0,0.26462022562179899,2.04197770562046E-2,0,0.14474609178857201,4.4187058547852601E-3,0,1,0,0]
["Del_System Operator (1008656)","08:30:54","05:15:36",103,0.69218116021493603,0.54779147908918902,0.55575128857571598,3.26221700267502E-5,0.26867619234031398,6.1949500880798598E-2,0,0.109773602140014,3.81679389312977E-3,0,7,0,0]
["Del_Tahira Qureshi (1008657)","08:46:13","03:36:51",104,0.75764281138997303,0.37965983593576802,0.38415734963418102,6.3345263357932397E-5,0.124948531973522,2.78719158774903E-2,0,0.46083679092895802,2.12206632249074E-3,2,5,0,0]
["Del_Tapas Chakraborty (1008658)","08:14:56","05:15:14",105,0.74111516006426104,0.56529498922413801,0.57401670258620696,1.4816810344827601E-3,0.21046605603448301,6.1422413793103398E-2,0,0.145844558189655,6.7685883620689702E-3,0,12,1,0]
["Del_Tariq Akhlaq (1008659)","04:59:55","03:08:41",106,0.66200806970352599,0.60261183662128404,0.60955821061405902,2.22283967768825E-4,0.303417616004446,1.8560711308696898E-2,0,5.0180605723812201E-2,1.8060572381216999E-2,0,1,0,4]
["Del_Tasneem Khan (1008660)","08:33:55","04:38:49",107,0.73796815033746499,0.49813523593319298,0.50796173179828097,2.4647316361277802E-3,0.183946813685747,3.2106372628506602E-2,0,0.26628830874006798,7.2320415112696601E-3,4,5,0,0]

{"sheet":"OverAll Performance","index":2,"n_rows":150,"n_cols":10,"rows_kept":150,"cut":false,"hidden":false,"merged":[]}
["Employee","Attended Calls","Transferred calls","Call Conferenced","Call Redirected","Hold Calls","% of Calls onHold","Average Duration of Calls","Avg. In Focus Hold Calls","Calls Unattend Time'"]
["Mum_Abdul Hamid (1008512)",98,0,0,0,0.10294117647058799,0,"00:04:13","00:00:01","00:00:09"]
["Mum_Afzal Husain (1008513)",23,0,0,0,0.10294117647058799,0,"00:04:13","00:00:01","00:00:09"]
["Mum_Anamika Gupta (1008514)",28,1.4705882352941201E-2,0,0,7.3529411764705899E-2,0,"00:04:10","00:00:00","00:00:07"]
["Mum_Anikuttan (1008515)",29,1.4705882352941201E-2,0,0,7.3529411764705899E-2,0,"00:04:10","00:00:00","00:00:07"]
["Mum_Anil Kumar (1008516)",93,8.3333333333333301E-2,0,0,0.16666666666666699,0.1,"00:04:25","00:00:59","00:00:11"]
["Mum_Anita Dixit (1008517)",92,8.3333333333333301E-2,0,0,0.16666666666666699,0.1,"00:04:25","00:00:59","00:00:11"]
["Mum_Anita Ghore (1008518)",26,5.4545454545454501E-2,0,1.7857142857142901E-2,0.109090909090909,0,"00:04:26","00:00:00","00:00:14"]
["Mum_Anjali Deoram (1008519)",90,5.4545454545454501E-2,0,1.7857142857142901E-2,0.109090909090909,0,"00:04:26","00:00:00","00:00:14"]
["Mum_Anjali Sahay (1008520)",89,0,0,0,6.8181818181818205E-2,0,"00:03:26","00:00:03","00:00:10"]
["Mum_Annu Latika (1008521)",54,0,0,0,6.8181818181818205E-2,0,"00:03:26","00:00:03","00:00:10"]
["Mum_Anoop Narayan (1008522)",87,0,0,0,6.5217391304347797E-2,0,"00:03:54","00:00:51","00:00:27"]
["Mum_Anoop Raj (1008523)",65,0,0,0,6.5217391304347797E-2,0,"00:03:54","00:00:51","00:00:27"]
["Mum_Anubhuti Gupta (1008524)",85,0,0,0,7.69230769230769E-2,0,"00:04:07","00:00:00","00:00:04"]
["Mum_Arun Kumar (1008525)",65,0,0,0,7.69230769230769E-2,0,"00:04:07","00:00:00","00:00:04"]
["Mum_Ashish Kumar (1008526)",83,9.6385542168674704E-2,0,1.1904761904761901E-2,0.132530120481928,9.0909090909090898E-2,"00:03:54","00:00:26","00:00:16"]
["Mum_Ashok Kumar (1008527)",82,9.6385542168674704E-2,0,1.1904761904761901E-2,0.132530120481928,9.0909090909090898E-2,"00:03:54","00:00:26","00:00:16"]
["Hyd_Ashok Kumar (1008528)",81,3.03030303030303E-2,0,2.8571428571428598E-2,7.5757575757575801E-2,0,"00:04:18","00:00:04","00:00:07"]
["Hyd_Ashok Kumar (1008529)",80,3.03030303030303E-2,0,2.8571428571428598E-2,7.5757575757575801E-2,0,"00:04:18","00:00:04","00:00:07"]
["Hyd_Ashok Kumar (1008530)",79,5.9701492537313397E-2,0,0,0.104477611940299,0,"00:04:22","00:00:01","00:00:04"]
["Hyd_Ashok Mahto (1008531)",78,5.9701492537313397E-2,0,0,0.104477611940299,0,"00:04:22","00:00:01","00:00:04"]
["Hyd_Atul Kumar (1008532)",77,2.9850746268656699E-2,0,0,0.119402985074627,0,"00:04:04","00:00:39","00:00:09"]
["Hyd_Azam (1008533)",76,2.9850746268656699E-2,0,0,0.119402985074627,0,"00:04:04","00:00:39","00:00:09"]
["Hyd_Bhagwat Singh (1008534)",75,7.2727272727272696E-2,0,1.7543859649122799E-2,7.2727272727272696E-2,0,"00:03:45","00:00:00","00:00:23"]
["Hyd_Bindu Nair (1008535)",74,7.2727272727272696E-2,0,1.7543859649122799E-2,7.2727272727272696E-2,0,"00:03:45","00:00:00","00:00:23"]
["Hyd_Daleep Singh (1008536)",73,9.0909090909090898E-2,0,0,0.10606060606060599,0,"00:03:45","00:00:01","00:00:25"]
["Hyd_Deepak Kumar (1008537)",72,9.0909090909090898E-2,0,0,0.10606060606060599,0,"00:03:45","00:00:01","00:00:25"]
["Hyd_Deepika Nigam (1008538)",71,8.0645161290322606E-2,0,0,0.14516129032258099,0.11111111111111099,"00:04:07","00:00:28","00:00:20"]
["Hyd_Dinesh Kumar (1008539)",70,8.0645161290322606E-2,0,0,0.14516129032258099,0.11111111111111099,"00:04:07","00:00:28","00:00:20"]
["Hyd_Hari Kumar (1008540)",69,0.138461538461538,0,1.49253731343284E-2,0.21538461538461501,0,"00:04:07","00:01:00","00:00:14"]
["Hyd_Heeramani Choudhary (1008541)",68,0.138461538461538,0,1.49253731343284E-2,0.21538461538461501,0,"00:04:07","00:01:00","00:00:14"]
["Hyd_Indra Pal (1008542)",67,1.7543859649122799E-2,0,0,5.2631578947368397E-2,0,"00:04:13","00:00:02","00:00:09"]
["Hyd_Indra Singh (1008543)",66,1.7543859649122799E-2,0,0,5.2631578947368397E-2,0,"00:04:13","00:00:02","00:00:09"]
["Hyd_Jagdish Chandra (1008544)",65,8.9552238805970102E-2,0,1.4705882352941201E-2,0.119402985074627,0.125,"00:04:06","00:00:00","00:00:06"]
["Hyd_Jairaj Vatham (1008545)",64,8.9552238805970102E-2,0,1.4705882352941201E-2,0.119402985074627,0.125,"00:04:06","00:00:00","00:00:06"]
["Hyd_Janardan Mishra (1008546)",63,0.140625,0,0,0.171875,0,"00:04:27","00:00:00","00:00:03"]
["Hyd_Jitendra Kumar (1008547)",62,0.140625,0,0,0.171875,0,"00:04:27","00:00:00","00:00:03"]
["Hyd_John D'Costa (1008548)",61,0.10344827586206901,0,0,0.24137931034482701,0,"00:07:56","00:01:32","00:00:25"]
["Hyd_Julie S (1008549)",60,0.10344827586206901,0,0,0.24137931034482701,0,"00:07:56","00:01:32","00:00:25"]
["Hyd_Jyoti Tulsani (1008550)",59,7.3529411764705899E-2,0,0,0.11764705882352899,0,"00:04:08","00:00:07","00:00:05"]
["Hyd_Kahkasha Parveen (1008551)",58,7.3529411764705899E-2,0,0,0.11764705882352899,0,"00:04:08","00:00:07","00:00:05"]
["Hyd_Kailash Nath (1008552)",57,4.91803278688525E-2,0,0,9.8360655737704902E-2,0,"00:04:35","00:00:00","00:00:04"]
["Hyd_Kalpana Agrawal (1008553)",56,4.91803278688525E-2,0,0,9.8360655737704902E-2,0,"00:04:35","00:00:00","00:00:04"]
["Hyd_Kamini Kumar (1008554)",55,1.5625E-2,0,0,1.5625E-2,0,"00:04:34","00:00:03","00:00:05"]
["Hyd_Kamini Tiwari (1008555)",54,1.5625E-2,0,0,1.5625E-2,0,"00:04:34","00:00:03","00:00:05"]
["Hyd_Kavita Sharma (1008556)",53,3.5714285714285698E-2,0,0,5.3571428571428603E-2,0,"00:03:50","00:00:41","00:00:34"]
["Hyd_Kiran Khubchandani (1008557)",52,3.5714285714285698E-2,0,0,5.3571428571428603E-2,0,"00:03:50","00:00:41","00:00:34"]
["Hyd_Kisun Sah (1008558)",51,3.4482758620689703E-2,0,0,0.10344827586206901,0.16666666666666699,"00:04:05","00:00:06","00:00:10"]
["Hyd_Krishana Kumar (1008559)",50,3.4482758620689703E-2,0,0,0.10344827586206901,0.16666666666666699,"00:04:05","00:00:06","00:00:10"]
["Hyd_Kunj Bihari (1008560)",49,4.3478260869565202E-2,0,5.4794520547945202E-2,7.2463768115942004E-2,0.2,"00:03:57","00:01:29","00:00:19"]
["Hyd_Leena George (1008561)",48,4.3478260869565202E-2,0,5.4794520547945202E-2,7.2463768115942004E-2,0.2,"00:03:57","00:01:29","00:00:19"]
["Hyd_Lilly Lucy (1008562)",47,0,0,0,0,0,"00:04:47",null,"00:00:08"]
["Hyd_Mangal Singh (1008563)",46,0,0,0,0,0,"00:04:47",null,"00:00:08"]
["Hyd_Manisha Shrivastava (1008564)",45,0.11111111111111099,0,0,0.22222222222222199,0,"00:03:54","00:00:23","00:00:04"]
["Hyd_Manjusha Sinha (1008565)",44,0.11111111111111099,0,0,0.22222222222222199,0,"00:03:54","00:00:23","00:00:04"]
["Hyd_ManjuTiwari Lab (1008566)",43,0.14492753623188401,0,0,0.202898550724638,7.1428571428571397E-2,"00:03:50","00:00:17","00:00:29"]
["Hyd_Manoj Kumar (1008567)",42,0.14492753623188401,0,0,0.202898550724638,7.1428571428571397E-2,"00:03:50","00:00:17","00:00:29"]
["Hyd_Manoj Kumar (1008568)",41,6.7796610169491497E-2,0,0,0.11864406779661001,0,"00:03:47","00:00:18","00:00:27"]
["Hyd_Masroor Adil (1008569)",40,6.7796610169491497E-2,0,0,0.11864406779661001,0,"00:03:47","00:00:18","00:00:27"]
["Hyd_Meena Zinjare (1008570)",39,2.6315789473684199E-2,0,4.9382716049382699E-2,7.8947368421052599E-2,0.16666666666666699,"00:03:07","00:01:21","00:00:19"]
["Hyd_Mehnaz Khan (1008571)",38,2.6315789473684199E-2,0,4.9382716049382699E-2,7.8947368421052599E-2,0.16666666666666699,"00:03:07","00:01:21","00:00:19"]
["Hyd_Mercy Thampi (1008572)",37,3.7974683544303799E-2,0,0,7.5949367088607597E-2,0.16666666666666699,"00:03:28","00:00:17","00:00:23"]
["Hyd_Miny Mole (1008573)",36,3.7974683544303799E-2,0,0,7.5949367088607597E-2,0.16666666666666699,"00:03:28","00:00:17","00:00:23"]
["Hyd_Mohd Rafi (1008574)",35,8.7719298245614002E-2,0,0,0.105263157894737,0,"00:04:29","00:00:17","00:00:50"]
["Hyd_Mubeen Khan (1008575)",34,8.7719298245614002E-2,0,0,0.105263157894737,0,"00:04:29","00:00:17","00:00:50"]
["Hyd_Mukesh Nagar (1008576)",33,0.107692307692308,0,0,0.16923076923076899,0,"00:04:15","00:00:03","00:00:10"]
["Hyd_Nandu Kumar (1008577)",32,0.107692307692308,0,0,0.16923076923076899,0,"00:04:15","00:00:03","00:00:10"]
["Hyd_Narayan Singh (1008578)",31,7.3529411764705899E-2,0,0,0.13235294117647001,0,"00:04:17","00:00:00","00:00:09"]
["Hyd_Neeraj Saxena (1008579)",30,7.3529411764705899E-2,0,0,0.13235294117647001,0,"00:04:17","00:00:00","00:00:09"]
["Hyd_Neeru Mehta (1008580)",29,0.05,0,0,0.1,0,"00:04:18","00:00:01","00:00:07"]
["Hyd_Nikita Panwalkar (1008581)",28,0.05,0,0,0.1,0,"00:04:18","00:00:01","00:00:07"]
["Hyd_Nitin Bhatia (1008582)",29,7.1428571428571397E-2,0,0,8.9285714285714302E-2,0,"00:04:10","00:00:03","00:00:07"]
["Hyd_Om Prakash (1008583)",30,7.1428571428571397E-2,0,0,8.9285714285714302E-2,0,"00:04:10","00:00:03","00:00:07"]
["Hyd_Omprakash O (1008584)",31,7.69230769230769E-2,0,0,7.69230769230769E-2,0,"00:03:33","00:00:00","00:00:09"]
["Hyd_Owais Mohd (1008585)",32,7.69230769230769E-2,0,0,7.69230769230769E-2,0,"00:03:33","00:00:00","00:00:09"]
["Hyd_Pankaj Shelkey (1008586)",33,5.4054054054054099E-2,0,0,8.1081081081081099E-2,0,"00:03:38","00:00:18","00:00:20"]
["Hyd_Partha Sarathi (1008587)",34,5.4054054054054099E-2,0,0,8.1081081081081099E-2,0,"00:03:38","00:00:18","00:00:20"]
["Hyd_Prabha Desikan (1008588)",35,5.63380281690141E-2,0,0,9.85915492957746E-2,0,"00:03:57","00:00:00","00:00:10"]
["Hyd_Pramod Tiwari (1008589)",36,5.63380281690141E-2,0,0,9.85915492957746E-2,0,"00:03:57","00:00:00","00:00:10"]
["Hyd_Prasannakumari S (1008590)",37,0.13636363636363599,0,0,0.18181818181818199,8.3333333333333301E-2,"00:03:53","00:00:03","00:01:01"]
["Hyd_Praveen Kumar (1008591)",38,0.13636363636363599,0,0,0.18181818181818199,8.3333333333333301E-2,"00:03:53","00:00:03","00:01:01"]
["Hyd_Rachel Mathew (1008592)",39,8.8235294117647106E-2,0,0,8.8235294117647106E-2,0,"00:04:14","00:00:00","00:00:07"]
["Hyd_Rachita Anupam (1008593)",40,8.8235294117647106E-2,0,0,8.8235294117647106E-2,0,"00:04:14","00:00:00","00:00:07"]
["Hyd_Rachna Chauhan (1008594)",41,3.7037037037037E-2,0,0,0.12962962962963001,0.28571428571428598,"00:04:09","00:00:12","00:00:05"]
["Hyd_Raj Kumar (1008595)",42,3.7037037037037E-2,0,0,0.12962962962963001,0.28571428571428598,"00:04:09","00:00:12","00:00:05"]
["Hyd_Rajeev Garg (1008596)",43,4.08163265306122E-2,0,0,6.1224489795918401E-2,0,"00:04:02","00:00:01","00:00:04"]
["Hyd_Rajeev Kumar (1008597)",44,4.08163265306122E-2,0,0,6.1224489795918401E-2,0,"00:04:02","00:00:01","00:00:04"]
["Hyd_Rajendra Gupta (1008598)",45,7.5471698113207503E-2,0,0,0.113207547169811,0,"00:05:37","00:00:04","00:00:23"]
["Hyd_Rajendra Kumar (1008599)",46,7.5471698113207503E-2,0,0,0.113207547169811,0,"00:05:37","00:00:04","00:00:23"]
["Hyd_Rajendra Prasad (1008600)",47,3.0769230769230799E-2,1.5384615384615399E-2,0,7.69230769230769E-2,0.4,"00:04:17","00:00:12","00:00:07"]
["Hyd_Rajesh Kumar (1008601)",48,3.0769230769230799E-2,1.5384615384615399E-2,0,7.69230769230769E-2,0.4,"00:04:17","00:00:12","00:00:07"]
["Hyd_Rajesh Kumar (1008602)",49,6.7796610169491497E-2,0,0,0.101694915254237,0,"00:04:10","00:00:29","00:00:04"]
["Hyd_Rajesh Sharma (1008603)",50,6.7796610169491497E-2,0,0,0.101694915254237,0,"00:04:10","00:00:29","00:00:04"]
["Hyd_Raji Abraham (1008604)",51,6.0606060606060601E-2,0,0,0.10606060606060599,0,"00:04:13","00:00:21","00:00:19"]
["Hyd_Rajshree Dhabekar (1008605)",52,6.0606060606060601E-2,0,0,0.10606060606060599,0,"00:04:13","00:00:21","00:00:19"]
["Hyd_Rakhi Jodhani (1008606)",53,5.9701492537313397E-2,0,0,5.9701492537313397E-2,0,"00:04:11","00:00:02","00:00:04"]
["Hyd_Ramji Prasad (1008607)",54,5.9701492537313397E-2,0,0,5.9701492537313397E-2,0,"00:04:11","00:00:02","00:00:04"]
["Del_Rashid (1008608)",55,0,0,0,2.8571428571428598E-2,1,"00:03:49","00:00:00","00:00:13"]
["Del_Rashmi Gajbe (1008609)",56,0,0,0,2.8571428571428598E-2,1,"00:03:49","00:00:00","00:00:13"]
["Del_Ravi Kumar (1008610)",57,4.7619047619047603E-2,0,0,0.119047619047619,0,"00:04:15","00:00:40","00:00:08"]
["Del_Ravinder Kaur (1008611)",58,4.7619047619047603E-2,0,0,0.119047619047619,0,"00:04:15","00:00:40","00:00:08"]
["Del_Rekha Agarwal (1008612)",59,2.9850746268656699E-2,0,0,0.104477611940299,0,"00:03:55","00:00:02","00:00:14"]
["Del_Rekha Gupta (1008613)",60,2.9850746268656699E-2,0,0,0.104477611940299,0,"00:03:55","00:00:02","00:00:14"]
["Del_Rekha Jain  (1008614)",61,2.7777777777777801E-2,0,0,8.3333333333333301E-2,0,"00:03:48","00:00:02","00:00:06"]
["Del_Renu Pratap (1008615)",62,2.7777777777777801E-2,0,0,8.3333333333333301E-2,0,"00:03:48","00:00:02","00:00:06"]
["Del_Ritu Bhatnagar (1008616)",63,0.108108108108108,0,0,0.162162162162162,8.3333333333333301E-2,"00:03:44","00:00:11","00:00:09"]
["Del_Rohit Nishchal (1008617)",64,0.108108108108108,0,0,0.162162162162162,8.3333333333333301E-2,"00:03:44","00:00:11","00:00:09"]
["Del_Roli Bhatnagar (1008618)",65,4.8387096774193498E-2,0,0,9.6774193548387094E-2,0,"00:04:25","00:00:00","00:00:29"]
["Del_Roma Rastogi (1008619)",66,4.8387096774193498E-2,0,0,9.6774193548387094E-2,0,"00:04:25","00:00:00","00:00:29"]
["Del_Roohi Haider (1008620)",67,0,0,0,0,0,"00:03:32",null,"00:00:19"]
["Del_Sajid Naqvi (1008621)",68,0,0,0,0,0,"00:03:32",null,"00:00:19"]
["Del_Salim (1008622)",69,5.2631578947368397E-2,0,0,0.144736842105263,0.63636363636363602,"00:03:27","00:00:00","00:00:05"]
["Del_Sanjay Hire (1008623)",70,5.2631578947368397E-2,0,0,0.144736842105263,0.63636363636363602,"00:03:27","00:00:00","00:00:05"]
["Del_Sanjiv Subherwal (1008624)",71,2.7777777777777801E-2,0,1.3698630136986301E-2,4.1666666666666699E-2,0,"00:03:31","00:00:08","00:00:11"]
["Del_Sanju Ramdas (1008625)",72,2.7777777777777801E-2,0,1.3698630136986301E-2,4.1666666666666699E-2,0,"00:03:31","00:00:08","00:00:11"]
["Del_Santosh Kumar (1008626)",73,3.0769230769230799E-2,0,2.9850746268656699E-2,7.69230769230769E-2,0.2,"00:04:03","00:00:01","00:00:10"]
["Del_Santosh Kumar (1008627)",74,3.0769230769230799E-2,0,2.9850746268656699E-2,7.69230769230769E-2,0.2,"00:04:03","00:00:01","00:00:10"]
["Del_Santosh Kumar (1008628)",75,0.13636363636363599,0,0,0.204545454545455,0,"00:03:58","00:01:03","00:00:07"]
["Del_Sapna Sharma (1008629)",76,0.13636363636363599,0,0,0.204545454545455,0,"00:03:58","00:01:03","00:00:07"]
["Del_Saroj Parita (1008630)",77,1.63934426229508E-2,0,0,8.1967213114754106E-2,0,"00:03:55","00:00:03","00:00:06"]
["Del_Shailaja Kamal (1008631)",78,1.63934426229508E-2,0,0,8.1967213114754106E-2,0,"00:03:55","00:00:03","00:00:06"]
["Del_Shailendra Barge (1008632)",79,0.13043478260869601,0,0,0.19565217391304299,0,"00:04:20","00:00:00","00:00:11"]
["Del_Shankar Attendant (1008633)",80,0.13043478260869601,0,0,0.19565217391304299,0,"00:04:20","00:00:00","00:00:11"]
["Del_Shashikant Tiwari (1008634)",81,6.5573770491803296E-2,0,0,9.8360655737704902E-2,0,"00:04:00","00:00:09","00:00:08"]
["Del_Sheeba Joseph (1008635)",82,6.5573770491803296E-2,0,0,9.8360655737704902E-2,0,"00:04:00","00:00:09","00:00:08"]
["Del_Sheena Joseph (1008636)",83,0.11111111111111099,0,0,0.126984126984127,0,"00:03:27","00:00:11","00:00:15"]
["Del_Shephali Jain (1008637)",84,0.11111111111111099,0,0,0.126984126984127,0,"00:03:27","00:00:11","00:00:15"]
["Del_Shivji Prasad (1008638)",85,5.4545454545454501E-2,0,0,0.145454545454545,0.125,"00:03:46","00:00:51","00:00:06"]
["Del_Shubhanjali Joshi (1008639)",86,5.4545454545454501E-2,0,0,0.145454545454545,0.125,"00:03:46","00:00:51","00:00:06"]
["Del_Shyamal Malakar (1008640)",87,0.102040816326531,0,0.02,0.102040816326531,0,"00:03:53","00:00:00","00:00:04"]
["Del_Sneh Khan (1008641)",88,0.102040816326531,0,0.02,0.102040816326531,0,"00:03:53","00:00:00","00:00:04"]
["Del_Sonaram Munda (1008642)",89,0.1,0,0,0.1,0,"00:04:31","00:00:00","00:00:12"]
["Del_Sudama Kumar (1008643)",90,0.1,0,0,0.1,0,"00:04:31","00:00:00","00:00:12"]
["Del_Sudhir Kumar (1008644)",91,3.3898305084745797E-2,0,0,0.152542372881356,0.11111111111111099,"00:04:35","00:00:32","00:00:04"]
["Del_Sunil Kumar (1008645)",92,3.3898305084745797E-2,0,0,0.152542372881356,0.11111111111111099,"00:04:35","00:00:32","00:00:04"]
["Del_Sunil Kumar (1008646)",93,6.3829787234042604E-2,0,0,0.19148936170212799,0,"00:05:00","00:02:17","00:00:26"]
["Del_Sunita Chawla (1008647)",94,6.3829787234042604E-2,0,0,0.19148936170212799,0,"00:05:00","00:02:17","00:00:26"]
["Del_Sunita Madnani (1008648)",95,0.118421052631579,0,0,0.23684210526315799,5.5555555555555601E-2,"00:03:32","00:00:23","00:00:06"]
["Del_Surendra Kumar (1008649)",96,0.118421052631579,0,0,0.23684210526315799,5.5555555555555601E-2,"00:03:32","00:00:23","00:00:06"]
["Del_Surendranath Thakur (1008650)",97,7.1428571428571397E-2,0,0,0.128571428571428,0.22222222222222199,"00:04:04","00:00:35","00:00:06"]
["Del_Sushma Khandelwal (1008651)",98,7.1428571428571397E-2,0,0,0.128571428571428,0.22222222222222199,"00:04:04","00:00:35","00:00:06"]
["Del_Swarnlata Borse (1008652)",99,0,0,0,0.04,0,"00:03:28","00:01:08","00:00:06"]
["Del_Syed Naved (1008653)",100,0,0,0,0.04,0,"00:03:28","00:01:08","00:00:06"]
["Del_Syed Saqib (1008654)",101,3.1746031746031703E-2,0,0,0.126984126984127,0,"00:03:42","00:00:49","00:00:25"]
["Del_Syed Sohail (1008655)",102,3.1746031746031703E-2,0,0,0.126984126984127,0,"00:03:42","00:00:49","00:00:25"]
["Del_System Operator (1008656)",103,0,0,0,4.8387096774193498E-2,0,"00:03:48","00:00:00","00:00:06"]
["Del_Tahira Qureshi (1008657)",104,0,0,0,4.8387096774193498E-2,0,"00:03:48","00:00:00","00:00:06"]
["Del_Tapas Chakraborty (1008658)",105,3.2786885245901599E-2,0,0,6.5573770491803296E-2,0.25,"00:03:49","00:00:00","00:00:09"]
["Del_Tariq Akhlaq (1008659)",106,3.2786885245901599E-2,0,0,6.5573770491803296E-2,0.25,"00:03:49","00:00:00","00:00:09"]
["Del_Tasneem Khan (1008660)",107,3.2786885245901599E-2,0,0,9.8360655737704902E-2,0,"00:04:04","00:00:10","00:00:07"]

{"sheet":"Summary","index":3,"n_rows":150,"n_cols":7,"rows_kept":150,"cut":false,"hidden":false,"merged":[]}
[{"$f":"[1]Break!A1","v":"Employee"},"Emp Name","Total Number of woking hours","Work Efficiency ","Total Break Taken","Attended Calls","Active With Cust."]
[{"$f":"Break!A2","v":"Mum_Abdul Hamid (1008512)"},{"$f":"MID(A2,FIND(\"_\",A2,1)+1,FIND(\"(\",A2,1)-FIND(\"_\",A2,1)-2)","v":"Abdul Hamid"},{"$f":"TIMEVALUE(VLOOKUP(A2,EData,2,0))","v":"08:15:43"},{"$f":"TIMEVALUE(VLOOKUP(A2,EData,3,0))","v":"04:57:59"},{"$f":"TIMEVALUE(VLOOKUP(A2,BData,9,0))","v":"01:08:42"},{"$f":"VLOOKUP(A2,PData,2,0)","v":98},{"$f":"VLOOKUP(A2,EData,6,0)","v":0.55697138822580095}]
[{"$f":"Break!A3","v":"Mum_Afzal Husain (1008513)"},{"$f":"MID(A3,FIND(\"_\",A3,1)+1,FIND(\"(\",A3,1)-FIND(\"_\",A3,1)-2)","v":"Afzal Husain"},{"$f":"TIMEVALUE(VLOOKUP(A3,EData,2,0))","v":"08:15:36"},{"$f":"TIMEVALUE(VLOOKUP(A3,EData,3,0))","v":"04:58:34"},{"$f":"TIMEVALUE(VLOOKUP(A3,BData,9,0))","v":"01:09:59"},{"$f":"VLOOKUP(A3,PData,2,0)","v":23},{"$f":"VLOOKUP(A3,EData,6,0)","v":0.58027306967984904}]
[{"$f":"Break!A4","v":"Mum_Anamika Gupta (1008514)"},"Anamika Gupta",{"$f":"TIMEVALUE(VLOOKUP(A4,EData,2,0))","v":"08:16:57"},{"$f":"TIMEVALUE(VLOOKUP(A4,EData,3,0))","v":"04:49:35"},{"$f":"TIMEVALUE(VLOOKUP(A4,BData,9,0))","v":"01:13:54"},{"$f":"VLOOKUP(A4,PData,2,0)","v":28},{"$f":"VLOOKUP(A4,EData,6,0)","v":0.51708756749505302}]
[{"$f":"Break!A5","v":"Mum_Anikuttan (1008515)"},"Anikuttan",{"$f":"TIMEVALUE(VLOOKUP(A5,EData,2,0))","v":"08:09:56"},{"$f":"TIMEVALUE(VLOOKUP(A5,EData,3,0))","v":"04:17:32"},{"$f":"TIMEVALUE(VLOOKUP(A5,BData,9,0))","v":"02:19:02"},{"$f":"VLOOKUP(A5,PData,2,0)","v":29},{"$f":"VLOOKUP(A5,EData,6,0)","v":0.47720778337188702}]
[{"$f":"Break!A6","v":"Mum_Anil Kumar (1008516)"},"Anil Kumar",{"$f":"TIMEVALUE(VLOOKUP(A6,EData,2,0))","v":"07:20:41"},{"$f":"TIMEVALUE(VLOOKUP(A6,EData,3,0))","v":"03:19:44"},{"$f":"TIMEVALUE(VLOOKUP(A6,BData,9,0))","v":"03:04:58"},{"$f":"VLOOKUP(A6,PData,2,0)","v":93},{"$f":"VLOOKUP(A6,EData,6,0)","v":0.43288831738587802}]
[{"$f":"Break!A7","v":"Mum_Anita Dixit (1008517)"},"Anita Dixit",{"$f":"TIMEVALUE(VLOOKUP(A7,EData,2,0))","v":"05:00:09"},{"$f":"TIMEVALUE(VLOOKUP(A7,EData,3,0))","v":"03:41:19"},{"$f":"TIMEVALUE(VLOOKUP(A7,BData,9,0))","v":"00:27:07"},{"$f":"VLOOKUP(A7,PData,2,0)","v":92},{"$f":"VLOOKUP(A7,EData,6,0)","v":0.65495030262646503}]
[{"$f":"Break!A8","v":"Mum_Anita Ghore (1008518)"},"Anita Ghore",{"$f":"TIMEVALUE(VLOOKUP(A8,EData,2,0))","v":"08:16:38"},{"$f":"TIMEVALUE(VLOOKUP(A8,EData,3,0))","v":"04:12:46"},{"$f":"TIMEVALUE(VLOOKUP(A8,BData,9,0))","v":"02:41:42"},{"$f":"VLOOKUP(A8,PData,2,0)","v":26},{"$f":"VLOOKUP(A8,EData,6,0)","v":0.49476474931203401}]
[{"$f":"Break!A9","v":"Mum_Anjali Deoram (1008519)"},"Anjali Deoram",{"$f":"TIMEVALUE(VLOOKUP(A9,EData,2,0))","v":"09:16:31"},{"$f":"TIMEVALUE(VLOOKUP(A9,EData,3,0))","v":"05:52:08"},{"$f":"TIMEVALUE(VLOOKUP(A9,BData,9,0))","v":"01:13:10"},{"$f":"VLOOKUP(A9,PData,2,0)","v":90},{"$f":"VLOOKUP(A9,EData,6,0)","v":0.55128627474469205}]
[{"$f":"Break!A10","v":"Mum_Anjali Sahay (1008520)"},"Anjali Sahay",{"$f":"TIMEVALUE(VLOOKUP(A10,EData,2,0))","v":"08:13:18"},{"$f":"TIMEVALUE(VLOOKUP(A10,EData,3,0))","v":"04:52:29"},{"$f":"TIMEVALUE(VLOOKUP(A10,BData,9,0))","v":"01:06:39"},{"$f":"VLOOKUP(A10,PData,2,0)","v":89},{"$f":"VLOOKUP(A10,EData,6,0)","v":0.55206432867085597}]
[{"$f":"Break!A11","v":"Mum_Annu Latika (1008521)"},"Annu Latika",{"$f":"TIMEVALUE(VLOOKUP(A11,EData,2,0))","v":"08:20:41"},{"$f":"TIMEVALUE(VLOOKUP(A11,EData,3,0))","v":"04:58:07"},{"$f":"TIMEVALUE(VLOOKUP(A11,BData,9,0))","v":"01:09:57"},{"$f":"VLOOKUP(A11,PData,2,0)","v":54},{"$f":"VLOOKUP(A11,EData,6,0)","v":0.56868945774108703}]
[{"$f":"Break!A12","v":"Mum_Anoop Narayan (1008522)"},"Anoop Narayan",{"$f":"TIMEVALUE(VLOOKUP(A12,EData,2,0))","v":"08:10:35"},{"$f":"TIMEVALUE(VLOOKUP(A12,EData,3,0))","v":"04:55:28"},{"$f":"TIMEVALUE(VLOOKUP(A12,BData,9,0))","v":"01:09:15"},{"$f":"VLOOKUP(A12,PData,2,0)","v":87},{"$f":"VLOOKUP(A12,EData,6,0)","v":0.56035332087650802}]
[{"$f":"Break!A13","v":"Mum_Anoop Raj (1008523)"},"Anoop Raj",{"$f":"TIMEVALUE(VLOOKUP(A13,EData,2,0))","v":"08:04:10"},{"$f":"TIMEVALUE(VLOOKUP(A13,EData,3,0))","v":"03:47:42"},{"$f":"TIMEVALUE(VLOOKUP(A13,BData,9,0))","v":"03:01:18"},{"$f":"VLOOKUP(A13,PData,2,0)","v":65},{"$f":"VLOOKUP(A13,EData,6,0)","v":0.41552495697073999}]
[{"$f":"Break!A14","v":"Mum_Anubhuti Gupta (1008524)"},"Anubhuti Gupta",{"$f":"TIMEVALUE(VLOOKUP(A14,EData,2,0))","v":"08:14:38"},{"$f":"TIMEVALUE(VLOOKUP(A14,EData,3,0))","v":"04:43:40"},{"$f":"TIMEVALUE(VLOOKUP(A14,BData,9,0))","v":"02:06:41"},{"$f":"VLOOKUP(A14,PData,2,0)","v":85},{"$f":"VLOOKUP(A14,EData,6,0)","v":0.50026955994339195}]
[{"$f":"Break!A15","v":"Mum_Arun Kumar (1008525)"},"Arun Kumar",{"$f":"TIMEVALUE(VLOOKUP(A15,EData,2,0))","v":"07:59:50"},{"$f":"TIMEVALUE(VLOOKUP(A15,EData,3,0))","v":"04:40:27"},{"$f":"TIMEVALUE(VLOOKUP(A15,BData,9,0))","v":"01:10:34"},{"$f":"VLOOKUP(A15,PData,2,0)","v":65},{"$f":"VLOOKUP(A15,EData,6,0)","v":0.51396318166029897}]
[{"$f":"Break!A16","v":"Mum_Ashish Kumar (1008526)"},"Ashish Kumar",{"$f":"TIMEVALUE(VLOOKUP(A16,EData,2,0))","v":"08:16:59"},{"$f":"TIMEVALUE(VLOOKUP(A16,EData,3,0))","v":"04:57:35"},{"$f":"TIMEVALUE(VLOOKUP(A16,BData,9,0))","v":"01:16:59"},{"$f":"VLOOKUP(A16,PData,2,0)","v":83},{"$f":"VLOOKUP(A16,EData,6,0)","v":0.510580502364264}]
[{"$f":"Break!A17","v":"Mum_Ashok Kumar (1008527)"},"Ashok Kumar",{"$f":"TIMEVALUE(VLOOKUP(A17,EData,2,0))","v":"08:17:15"},{"$f":"TIMEVALUE(VLOOKUP(A17,EData,3,0))","v":"04:10:25"},{"$f":"TIMEVALUE(VLOOKUP(A17,BData,9,0))","v":"02:24:20"},{"$f":"VLOOKUP(A17,PData,2,0)","v":82},{"$f":"VLOOKUP(A17,EData,6,0)","v":0.48292274174627098}]
[{"$f":"Break!A18","v":"Hyd_Ashok Kumar (1008528)"},"Ashok Kumar",{"$f":"TIMEVALUE(VLOOKUP(A18,EData,2,0))","v":"07:53:01"},{"$f":"TIMEVALUE(VLOOKUP(A18,EData,3,0))","v":"04:44:12"},{"$f":"TIMEVALUE(VLOOKUP(A18,BData,9,0))","v":"00:56:29"},{"$f":"VLOOKUP(A18,PData,2,0)","v":81},{"$f":"VLOOKUP(A18,EData,6,0)","v":0.57362319861879396}]
[{"$f":"Break!A19","v":"Hyd_Ashok Kumar (1008529)"},"Ashok Kumar",{"$f":"TIMEVALUE(VLOOKUP(A19,EData,2,0))","v":"08:16:43"},{"$f":"TIMEVALUE(VLOOKUP(A19,EData,3,0))","v":"04:58:07"},{"$f":"TIMEVALUE(VLOOKUP(A19,BData,9,0))","v":"01:10:07"},{"$f":"VLOOKUP(A19,PData,2,0)","v":80},{"$f":"VLOOKUP(A19,EData,6,0)","v":0.56430560681810604}]
[{"$f":"Break!A20","v":"Hyd_Ashok Kumar (1008530)"},"Ashok Kumar",{"$f":"TIMEVALUE(VLOOKUP(A20,EData,2,0))","v":"08:21:16"},{"$f":"TIMEVALUE(VLOOKUP(A20,EData,3,0))","v":"04:23:03"},{"$f":"TIMEVALUE(VLOOKUP(A20,BData,9,0))","v":"02:40:10"},{"$f":"VLOOKUP(A20,PData,2,0)","v":79},{"$f":"VLOOKUP(A20,EData,6,0)","v":0.46974331693044302}]
[{"$f":"Break!A21","v":"Hyd_Ashok Mahto (1008531)"},"Ashok Mahto",{"$f":"TIMEVALUE(VLOOKUP(A21,EData,2,0))","v":"08:17:52"},{"$f":"TIMEVALUE(VLOOKUP(A21,EData,3,0))","v":"04:58:14"},{"$f":"TIMEVALUE(VLOOKUP(A21,BData,9,0))","v":"01:14:30"},{"$f":"VLOOKUP(A21,PData,2,0)","v":78},{"$f":"VLOOKUP(A21,EData,6,0)","v":0.57495313336904097}]
[{"$f":"Break!A22","v":"Hyd_Atul Kumar (1008532)"},"Atul Kumar",{"$f":"TIMEVALUE(VLOOKUP(A22,EData,2,0))","v":"08:13:41"},{"$f":"TIMEVALUE(VLOOKUP(A22,EData,3,0))","v":"04:53:40"},{"$f":"TIMEVALUE(VLOOKUP(A22,BData,9,0))","v":"01:06:59"},{"$f":"VLOOKUP(A22,PData,2,0)","v":77},{"$f":"VLOOKUP(A22,EData,6,0)","v":0.57945376590932096}]
[{"$f":"Break!A23","v":"Hyd_Azam (1008533)"},"Azam",{"$f":"TIMEVALUE(VLOOKUP(A23,EData,2,0))","v":"08:17:34"},{"$f":"TIMEVALUE(VLOOKUP(A23,EData,3,0))","v":"04:59:50"},{"$f":"TIMEVALUE(VLOOKUP(A23,BData,9,0))","v":"01:09:47"},{"$f":"VLOOKUP(A23,PData,2,0)","v":76},{"$f":"VLOOKUP(A23,EData,6,0)","v":0.588296375695049}]
[{"$f":"Break!A24","v":"Hyd_Bhagwat Singh (1008534)"},"Bhagwat Singh",{"$f":"TIMEVALUE(VLOOKUP(A24,EData,2,0))","v":"07:41:44"},{"$f":"TIMEVALUE(VLOOKUP(A24,EData,3,0))","v":"04:08:57"},{"$f":"TIMEVALUE(VLOOKUP(A24,BData,9,0))","v":"02:10:18"},{"$f":"VLOOKUP(A24,PData,2,0)","v":75},{"$f":"VLOOKUP(A24,EData,6,0)","v":0.46267686976609901}]
[{"$f":"Break!A25","v":"Hyd_Bindu Nair (1008535)"},"Bindu Nair",{"$f":"TIMEVALUE(VLOOKUP(A25,EData,2,0))","v":"08:10:04"},{"$f":"TIMEVALUE(VLOOKUP(A25,EData,3,0))","v":"04:14:05"},{"$f":"TIMEVALUE(VLOOKUP(A25,BData,9,0))","v":"02:11:17"},{"$f":"VLOOKUP(A25,PData,2,0)","v":74},{"$f":"VLOOKUP(A25,EData,6,0)","v":0.478030199972793}]
[{"$f":"Break!A26","v":"Hyd_Daleep Singh (1008536)"},"Daleep Singh",{"$f":"TIMEVALUE(VLOOKUP(A26,EData,2,0))","v":"08:14:20"},{"$f":"TIMEVALUE(VLOOKUP(A26,EData,3,0))","v":"05:26:56"},{"$f":"TIMEVALUE(VLOOKUP(A26,BData,9,0))","v":"01:12:54"},{"$f":"VLOOKUP(A26,PData,2,0)","v":73},{"$f":"VLOOKUP(A26,EData,6,0)","v":0.59983142279163904}]
[{"$f":"Break!A27","v":"Hyd_Deepak Kumar (1008537)"},"Deepak Kumar",{"$f":"TIMEVALUE(VLOOKUP(A27,EData,2,0))","v":"07:35:57"},{"$f":"TIMEVALUE(VLOOKUP(A27,EData,3,0))","v":"05:05:16"},{"$f":"TIMEVALUE(VLOOKUP(A27,BData,9,0))","v":"00:30:30"},{"$f":"VLOOKUP(A27,PData,2,0)","v":72},{"$f":"VLOOKUP(A27,EData,6,0)","v":0.65029060203969702}]
[{"$f":"Break!A28","v":"Hyd_Deepika Nigam (1008538)"},"Deepika Nigam",{"$f":"TIMEVALUE(VLOOKUP(A28,EData,2,0))","v":"08:16:59"},{"$f":"TIMEVALUE(VLOOKUP(A28,EData,3,0))","v":"04:56:45"},{"$f":"TIMEVALUE(VLOOKUP(A28,BData,9,0))","v":"01:11:40"},{"$f":"VLOOKUP(A28,PData,2,0)","v":71},{"$f":"VLOOKUP(A28,EData,6,0)","v":0.55001844461584903}]
[{"$f":"Break!A29","v":"Hyd_Dinesh Kumar (1008539)"},"Dinesh Kumar",{"$f":"TIMEVALUE(VLOOKUP(A29,EData,2,0))","v":"08:13:53"},{"$f":"TIMEVALUE(VLOOKUP(A29,EData,3,0))","v":"05:06:20"},{"$f":"TIMEVALUE(VLOOKUP(A29,BData,9,0))","v":"01:10:03"},{"$f":"VLOOKUP(A29,PData,2,0)","v":70},{"$f":"VLOOKUP(A29,EData,6,0)","v":0.51334660682347399}]
[{"$f":"Break!A30","v":"Hyd_Hari Kumar (1008540)"},"Hari Kumar",{"$f":"TIMEVALUE(VLOOKUP(A30,EData,2,0))","v":"08:15:11"},{"$f":"TIMEVALUE(VLOOKUP(A30,EData,3,0))","v":"04:11:43"},{"$f":"TIMEVALUE(VLOOKUP(A30,BData,9,0))","v":"02:44:52"},{"$f":"VLOOKUP(A30,PData,2,0)","v":69},{"$f":"VLOOKUP(A30,EData,6,0)","v":0.43603379219817601}]
[{"$f":"Break!A31","v":"Hyd_Heeramani Choudhary (1008541)"},"Heeramani Choudhary",{"$f":"TIMEVALUE(VLOOKUP(A31,EData,2,0))","v":"07:27:24"},{"$f":"TIMEVALUE(VLOOKUP(A31,EData,3,0))","v":"04:35:28"},{"$f":"TIMEVALUE(VLOOKUP(A31,BData,9,0))","v":"01:20:20"},{"$f":"VLOOKUP(A31,PData,2,0)","v":68},{"$f":"VLOOKUP(A31,EData,6,0)","v":0.52954105200417201}]
[{"$f":"Break!A32","v":"Hyd_Indra Pal (1008542)"},"Indra Pal",{"$f":"TIMEVALUE(VLOOKUP(A32,EData,2,0))","v":"07:59:57"},{"$f":"TIMEVALUE(VLOOKUP(A32,EData,3,0))","v":"05:14:16"},{"$f":"TIMEVALUE(VLOOKUP(A32,BData,9,0))","v":"01:09:15"},{"$f":"VLOOKUP(A32,PData,2,0)","v":67},{"$f":"VLOOKUP(A32,EData,6,0)","v":0.56446852102649603}]
[{"$f":"Break!A33","v":"Hyd_Indra Singh (1008543)"},"Indra Singh",{"$f":"TIMEVALUE(VLOOKUP(A33,EData,2,0))","v":"08:17:44"},{"$f":"TIMEVALUE(VLOOKUP(A33,EData,3,0))","v":"05:05:03"},{"$f":"TIMEVALUE(VLOOKUP(A33,BData,9,0))","v":"02:09:14"},{"$f":"VLOOKUP(A33,PData,2,0)","v":66},{"$f":"VLOOKUP(A33,EData,6,0)","v":0.49789043664612898}]
[{"$f":"Break!A34","v":"Hyd_Jagdish Chandra (1008544)"},"Jagdish Chandra",{"$f":"TIMEVALUE(VLOOKUP(A34,EData,2,0))","v":"08:19:10"},{"$f":"TIMEVALUE(VLOOKUP(A34,EData,3,0))","v":"04:59:15"},{"$f":"TIMEVALUE(VLOOKUP(A34,BData,9,0))","v":"01:09:03"},{"$f":"VLOOKUP(A34,PData,2,0)","v":65},{"$f":"VLOOKUP(A34,EData,6,0)","v":0.56270450751252099}]
[{"$f":"Break!A35","v":"Hyd_Jairaj Vatham (1008545)"},"Jairaj Vatham",{"$f":"TIMEVALUE(VLOOKUP(A35,EData,2,0))","v":"08:16:23"},{"$f":"TIMEVALUE(VLOOKUP(A35,EData,3,0))","v":"05:02:08"},{"$f":"TIMEVALUE(VLOOKUP(A35,BData,9,0))","v":"01:09:56"},{"$f":"VLOOKUP(A35,PData,2,0)","v":64},{"$f":"VLOOKUP(A35,EData,6,0)","v":0.57680556021891705}]
[{"$f":"Break!A36","v":"Hyd_Janardan Mishra (1008546)"},"Janardan Mishra",{"$f":"TIMEVALUE(VLOOKUP(A36,EData,2,0))","v":"07:39:42"},{"$f":"TIMEVALUE(VLOOKUP(A36,EData,3,0))","v":"04:32:56"},{"$f":"TIMEVALUE(VLOOKUP(A36,BData,9,0))","v":"01:28:09"},{"$f":"VLOOKUP(A36,PData,2,0)","v":63},{"$f":"VLOOKUP(A36,EData,6,0)","v":0.55728373576970502}]
[{"$f":"Break!A37","v":"Hyd_Jitendra Kumar (1008547)"},"Jitendra Kumar",{"$f":"TIMEVALUE(VLOOKUP(A37,EData,2,0))","v":"08:11:27"},{"$f":"TIMEVALUE(VLOOKUP(A37,EData,3,0))","v":"04:07:41"},{"$f":"TIMEVALUE(VLOOKUP(A37,BData,9,0))","v":"02:35:12"},{"$f":"VLOOKUP(A37,PData,2,0)","v":62},{"$f":"VLOOKUP(A37,EData,6,0)","v":0.47590463594126198}]
[{"$f":"Break!A38","v":"Hyd_John D'Costa (1008548)"},"John D'Costa",{"$f":"TIMEVALUE(VLOOKUP(A38,EData,2,0))","v":"08:09:47"},{"$f":"TIMEVALUE(VLOOKUP(A38,EData,3,0))","v":"04:51:30"},{"$f":"TIMEVALUE(VLOOKUP(A38,BData,9,0))","v":"01:09:36"},{"$f":"VLOOKUP(A38,PData,2,0)","v":61},{"$f":"VLOOKUP(A38,EData,6,0)","v":0.55636846224520997}]
[{"$f":"Break!A39","v":"Hyd_Julie S (1008549)"},"Julie S",{"$f":"TIMEVALUE(VLOOKUP(A39,EData,2,0))","v":"08:15:46"},{"$f":"TIMEVALUE(VLOOKUP(A39,EData,3,0))","v":"04:56:12"},{"$f":"TIMEVALUE(VLOOKUP(A39,BData,9,0))","v":"01:10:44"},{"$f":"VLOOKUP(A39,PData,2,0)","v":60},{"$f":"VLOOKUP(A39,EData,6,0)","v":0.527970147246689}]
[{"$f":"Break!A40","v":"Hyd_Jyoti Tulsani (1008550)"},"Jyoti Tulsani",{"$f":"TIMEVALUE(VLOOKUP(A40,EData,2,0))","v":"08:15:19"},{"$f":"TIMEVALUE(VLOOKUP(A40,EData,3,0))","v":"04:56:56"},{"$f":"TIMEVALUE(VLOOKUP(A40,BData,9,0))","v":"01:10:27"},{"$f":"VLOOKUP(A40,PData,2,0)","v":59},{"$f":"VLOOKUP(A40,EData,6,0)","v":0.565025741108382}]
[{"$f":"Break!A41","v":"Hyd_Kahkasha Parveen (1008551)"},"Kahkasha Parveen",{"$f":"TIMEVALUE(VLOOKUP(A41,EData,2,0))","v":"08:17:24"},{"$f":"TIMEVALUE(VLOOKUP(A41,EData,3,0))","v":"05:25:18"},{"$f":"TIMEVALUE(VLOOKUP(A41,BData,9,0))","v":"01:10:12"},{"$f":"VLOOKUP(A41,PData,2,0)","v":58},{"$f":"VLOOKUP(A41,EData,6,0)","v":0.48579278917035301}]
[{"$f":"Break!A42","v":"Hyd_Kailash Nath (1008552)"},"Kailash Nath",{"$f":"TIMEVALUE(VLOOKUP(A42,EData,2,0))","v":"08:16:01"},{"$f":"TIMEVALUE(VLOOKUP(A42,EData,3,0))","v":"04:58:27"},{"$f":"TIMEVALUE(VLOOKUP(A42,BData,9,0))","v":"01:07:40"},{"$f":"VLOOKUP(A42,PData,2,0)","v":57},{"$f":"VLOOKUP(A42,EData,6,0)","v":0.572258996673499}]
[{"$f":"Break!A43","v":"Hyd_Kalpana Agrawal (1008553)"},"Kalpana Agrawal",{"$f":"TIMEVALUE(VLOOKUP(A43,EData,2,0))","v":"08:00:08"},{"$f":"TIMEVALUE(VLOOKUP(A43,EData,3,0))","v":"03:54:19"},{"$f":"TIMEVALUE(VLOOKUP(A43,BData,9,0))","v":"02:24:54"},{"$f":"VLOOKUP(A43,PData,2,0)","v":56},{"$f":"VLOOKUP(A43,EData,6,0)","v":0.46542627048042201}]
[{"$f":"Break!A44","v":"Hyd_Kamini Kumar (1008554)"},"Kamini Kumar",{"$f":"TIMEVALUE(VLOOKUP(A44,EData,2,0))","v":"05:01:37"},{"$f":"TIMEVALUE(VLOOKUP(A44,EData,3,0))","v":"03:21:30"},{"$f":"TIMEVALUE(VLOOKUP(A44,BData,9,0))","v":"00:15:00"},{"$f":"VLOOKUP(A44,PData,2,0)","v":55},{"$f":"VLOOKUP(A44,EData,6,0)","v":0.64380836602751801}]
[{"$f":"Break!A45","v":"Hyd_Kamini Tiwari (1008555)"},"Kamini Tiwari",{"$f":"TIMEVALUE(VLOOKUP(A45,EData,2,0))","v":"08:26:46"},{"$f":"TIMEVALUE(VLOOKUP(A45,EData,3,0))","v":"05:18:49"},{"$f":"TIMEVALUE(VLOOKUP(A45,BData,9,0))","v":"01:09:45"},{"$f":"VLOOKUP(A45,PData,2,0)","v":54},{"$f":"VLOOKUP(A45,EData,6,0)","v":0.57347234098533195}]
[{"$f":"Break!A46","v":"Hyd_Kavita Sharma (1008556)"},"Kavita Sharma",{"$f":"TIMEVALUE(VLOOKUP(A46,EData,2,0))","v":"07:53:25"},{"$f":"TIMEVALUE(VLOOKUP(A46,EData,3,0))","v":"05:26:19"},{"$f":"TIMEVALUE(VLOOKUP(A46,BData,9,0))","v":"00:56:19"},{"$f":"VLOOKUP(A46,PData,2,0)","v":53},{"$f":"VLOOKUP(A46,EData,6,0)","v":0.64717479317021698}]
[{"$f":"Break!A47","v":"Hyd_Kiran Khubchandani (1008557)"},"Kiran Khubchandani",{"$f":"TIMEVALUE(VLOOKUP(A47,EData,2,0))","v":"08:01:28"},{"$f":"TIMEVALUE(VLOOKUP(A47,EData,3,0))","v":"04:13:15"},{"$f":"TIMEVALUE(VLOOKUP(A47,BData,9,0))","v":"02:10:24"},{"$f":"VLOOKUP(A47,PData,2,0)","v":52},{"$f":"VLOOKUP(A47,EData,6,0)","v":0.50443090556632497}]
[{"$f":"Break!A48","v":"Hyd_Kisun Sah (1008558)"},"Kisun Sah",{"$f":"TIMEVALUE(VLOOKUP(A48,EData,2,0))","v":"08:21:34"},{"$f":"TIMEVALUE(VLOOKUP(A48,EData,3,0))","v":"05:08:41"},{"$f":"TIMEVALUE(VLOOKUP(A48,BData,9,0))","v":"01:09:28"},{"$f":"VLOOKUP(A48,PData,2,0)","v":51},{"$f":"VLOOKUP(A48,EData,6,0)","v":0.55280122283511701}]
[{"$f":"Break!A49","v":"Hyd_Krishana Kumar (1008559)"},"Krishana Kumar",{"$f":"TIMEVALUE(VLOOKUP(A49,EData,2,0))","v":"08:15:28"},{"$f":"TIMEVALUE(VLOOKUP(A49,EData,3,0))","v":"04:45:06"},{"$f":"TIMEVALUE(VLOOKUP(A49,BData,9,0))","v":"01:09:45"},{"$f":"VLOOKUP(A49,PData,2,0)","v":50},{"$f":"VLOOKUP(A49,EData,6,0)","v":0.55493137782561897}]
[{"$f":"Break!A50","v":"Hyd_Kunj Bihari (1008560)"},"Kunj Bihari",{"$f":"TIMEVALUE(VLOOKUP(A50,EData,2,0))","v":"07:59:19"},{"$f":"TIMEVALUE(VLOOKUP(A50,EData,3,0))","v":"04:42:13"},{"$f":"TIMEVALUE(VLOOKUP(A50,BData,9,0))","v":"01:10:11"},{"$f":"VLOOKUP(A50,PData,2,0)","v":49},{"$f":"VLOOKUP(A50,EData,6,0)","v":0.55217497131332804}]
[{"$f":"Break!A51","v":"Hyd_Leena George (1008561)"},"Leena George",{"$f":"TIMEVALUE(VLOOKUP(A51,EData,2,0))","v":"04:56:13"},{"$f":"TIMEVALUE(VLOOKUP(A51,EData,3,0))","v":"03:10:50"},{"$f":"TIMEVALUE(VLOOKUP(A51,BData,9,0))","v":"00:18:10"},{"$f":"VLOOKUP(A51,PData,2,0)","v":48},{"$f":"VLOOKUP(A51,EData,6,0)","v":0.58819557756147001}]
[{"$f":"Break!A52","v":"Hyd_Lilly Lucy (1008562)"},"Lilly Lucy",{"$f":"TIMEVALUE(VLOOKUP(A52,EData,2,0))","v":"07:45:23"},{"$f":"TIMEVALUE(VLOOKUP(A52,EData,3,0))","v":"04:39:06"},{"$f":"TIMEVALUE(VLOOKUP(A52,BData,9,0))","v":"01:14:44"},{"$f":"VLOOKUP(A52,PData,2,0)","v":47},{"$f":"VLOOKUP(A52,EData,6,0)","v":0.55534863732407003}]
[{"$f":"Break!A53","v":"Hyd_Mangal Singh (1008563)"},"Mangal Singh",{"$f":"TIMEVALUE(VLOOKUP(A53,EData,2,0))","v":"08:00:13"},{"$f":"TIMEVALUE(VLOOKUP(A53,EData,3,0))","v":"04:46:25"},{"$f":"TIMEVALUE(VLOOKUP(A53,BData,9,0))","v":"01:10:04"},{"$f":"VLOOKUP(A53,PData,2,0)","v":46},{"$f":"VLOOKUP(A53,EData,6,0)","v":0.55815083469267301}]
[{"$f":"Break!A54","v":"Hyd_Manisha Shrivastava (1008564)"},"Manisha Shrivastava",{"$f":"TIMEVALUE(VLOOKUP(A54,EData,2,0))","v":"08:09:49"},{"$f":"TIMEVALUE(VLOOKUP(A54,EData,3,0))","v":"04:51:12"},{"$f":"TIMEVALUE(VLOOKUP(A54,BData,9,0))","v":"01:10:09"},{"$f":"VLOOKUP(A54,PData,2,0)","v":45},{"$f":"VLOOKUP(A54,EData,6,0)","v":0.53002824185919895}]
[{"$f":"Break!A55","v":"Hyd_Manjusha Sinha (1008565)"},"Manjusha Sinha",{"$f":"TIMEVALUE(VLOOKUP(A55,EData,2,0))","v":"08:14:05"},{"$f":"TIMEVALUE(VLOOKUP(A55,EData,3,0))","v":"05:04:01"},{"$f":"TIMEVALUE(VLOOKUP(A55,BData,9,0))","v":"01:10:39"},{"$f":"VLOOKUP(A55,PData,2,0)","v":44},{"$f":"VLOOKUP(A55,EData,6,0)","v":0.54639905548996504}]
[{"$f":"Break!A56","v":"Hyd_ManjuTiwari Lab (1008566)"},"ManjuTiwari Lab",{"$f":"TIMEVALUE(VLOOKUP(A56,EData,2,0))","v":"07:41:28"},{"$f":"TIMEVALUE(VLOOKUP(A56,EData,3,0))","v":"04:26:11"},{"$f":"TIMEVALUE(VLOOKUP(A56,BData,9,0))","v":"01:10:46"},{"$f":"VLOOKUP(A56,PData,2,0)","v":43},{"$f":"VLOOKUP(A56,EData,6,0)","v":0.52849609939323905}]
[{"$f":"Break!A57","v":"Hyd_Manoj Kumar (1008567)"},"Manoj Kumar",{"$f":"TIMEVALUE(VLOOKUP(A57,EData,2,0))","v":"08:00:44"},{"$f":"TIMEVALUE(VLOOKUP(A57,EData,3,0))","v":"04:28:58"},{"$f":"TIMEVALUE(VLOOKUP(A57,BData,9,0))","v":"01:09:53"},{"$f":"VLOOKUP(A57,PData,2,0)","v":42},{"$f":"VLOOKUP(A57,EData,6,0)","v":0.53279711551795905}]
[{"$f":"Break!A58","v":"Hyd_Manoj Kumar (1008568)"},"Manoj Kumar",{"$f":"TIMEVALUE(VLOOKUP(A58,EData,2,0))","v":"07:55:23"},{"$f":"TIMEVALUE(VLOOKUP(A58,EData,3,0))","v":"04:29:51"},{"$f":"TIMEVALUE(VLOOKUP(A58,BData,9,0))","v":"01:15:59"},{"$f":"VLOOKUP(A58,PData,2,0)","v":41},{"$f":"VLOOKUP(A58,EData,6,0)","v":0.53150089401535605}]
[{"$f":"Break!A59","v":"Hyd_Masroor Adil (1008569)"},"Masroor Adil",{"$f":"TIMEVALUE(VLOOKUP(A59,EData,2,0))","v":"08:10:04"},{"$f":"TIMEVALUE(VLOOKUP(A59,EData,3,0))","v":"05:04:35"},{"$f":"TIMEVALUE(VLOOKUP(A59,BData,9,0))","v":"01:11:39"},{"$f":"VLOOKUP(A59,PData,2,0)","v":40},{"$f":"VLOOKUP(A59,EData,6,0)","v":0.58954564004897303}]
[{"$f":"Break!A60","v":"Hyd_Meena Zinjare (1008570)"},"Meena Zinjare",{"$f":"TIMEVALUE(VLOOKUP(A60,EData,2,0))","v":"08:05:29"},{"$f":"TIMEVALUE(VLOOKUP(A60,EData,3,0))","v":"03:09:32"},{"$f":"TIMEVALUE(VLOOKUP(A60,BData,9,0))","v":"03:34:45"},{"$f":"VLOOKUP(A60,PData,2,0)","v":39},{"$f":"VLOOKUP(A60,EData,6,0)","v":0.34903360911806097}]
[{"$f":"Break!A61","v":"Hyd_Mehnaz Khan (1008571)"},"Mehnaz Khan",{"$f":"TIMEVALUE(VLOOKUP(A61,EData,2,0))","v":"08:14:51"},{"$f":"TIMEVALUE(VLOOKUP(A61,EData,3,0))","v":"04:08:21"},{"$f":"TIMEVALUE(VLOOKUP(A61,BData,9,0))","v":"02:12:24"},{"$f":"VLOOKUP(A61,PData,2,0)","v":38},{"$f":"VLOOKUP(A61,EData,6,0)","v":0.47933717288067101}]
[{"$f":"Break!A62","v":"Hyd_Mercy Thampi (1008572)"},"Mercy Thampi",{"$f":"TIMEVALUE(VLOOKUP(A62,EData,2,0))","v":"05:15:35"},{"$f":"TIMEVALUE(VLOOKUP(A62,EData,3,0))","v":"03:38:44"},{"$f":"TIMEVALUE(VLOOKUP(A62,BData,9,0))","v":"00:15:35"},{"$f":"VLOOKUP(A62,PData,2,0)","v":37},{"$f":"VLOOKUP(A62,EData,6,0)","v":0.62762080802746201}]
[{"$f":"Break!A63","v":"Hyd_Miny Mole (1008573)"},"Miny Mole",{"$f":"TIMEVALUE(VLOOKUP(A63,EData,2,0))","v":"08:12:10"},{"$f":"TIMEVALUE(VLOOKUP(A63,EData,3,0))","v":"04:14:06"},{"$f":"TIMEVALUE(VLOOKUP(A63,BData,9,0))","v":"02:13:07"},{"$f":"VLOOKUP(A63,PData,2,0)","v":36},{"$f":"VLOOKUP(A63,EData,6,0)","v":0.47561801557737898}]
[{"$f":"Break!A64","v":"Hyd_Mohd Rafi (1008574)"},"Mohd Rafi",{"$f":"TIMEVALUE(VLOOKUP(A64,EData,2,0))","v":"08:00:32"},{"$f":"TIMEVALUE(VLOOKUP(A64,EData,3,0))","v":"03:55:15"},{"$f":"TIMEVALUE(VLOOKUP(A64,BData,9,0))","v":"02:38:29"},{"$f":"VLOOKUP(A64,PData,2,0)","v":35},{"$f":"VLOOKUP(A64,EData,6,0)","v":0.43635543840177599}]
[{"$f":"Break!A65","v":"Hyd_Mubeen Khan (1008575)"},"Mubeen Khan",{"$f":"TIMEVALUE(VLOOKUP(A65,EData,2,0))","v":"07:55:35"},{"$f":"TIMEVALUE(VLOOKUP(A65,EData,3,0))","v":"03:50:43"},{"$f":"TIMEVALUE(VLOOKUP(A65,BData,9,0))","v":"02:24:38"},{"$f":"VLOOKUP(A65,PData,2,0)","v":34},{"$f":"VLOOKUP(A65,EData,6,0)","v":0.451270369721395}]
[{"$f":"Break!A66","v":"Hyd_Mukesh Nagar (1008576)"},"Mukesh Nagar",{"$f":"TIMEVALUE(VLOOKUP(A66,EData,2,0))","v":"05:01:07"},{"$f":"TIMEVALUE(VLOOKUP(A66,EData,3,0))","v":"03:13:40"},{"$f":"TIMEVALUE(VLOOKUP(A66,BData,9,0))","v":"00:29:34"},{"$f":"VLOOKUP(A66,PData,2,0)","v":33},{"$f":"VLOOKUP(A66,EData,6,0)","v":0.61244257486024201}]
[{"$f":"Break!A67","v":"Hyd_Nandu Kumar (1008577)"},{"$f":"MID(A67,FIND(\"_\",A67,1)+1,FIND(\"(\",A67,1)-FIND(\"_\",A67,1)-2)","v":"Nandu Kumar"},{"$f":"TIMEVALUE(VLOOKUP(A67,EData,2,0))","v":"08:21:39"},{"$f":"TIMEVALUE(VLOOKUP(A67,EData,3,0))","v":"04:43:39"},{"$f":"TIMEVALUE(VLOOKUP(A67,BData,9,0))","v":"01:14:03"},{"$f":"VLOOKUP(A67,PData,2,0)","v":32},{"$f":"VLOOKUP(A67,EData,6,0)","v":0.51755872288115901}]
[{"$f":"Break!A68","v":"Hyd_Narayan Singh (1008578)"},"Narayan Singh",{"$f":"TIMEVALUE(VLOOKUP(A68,EData,2,0))","v":"08:19:29"},{"$f":"TIMEVALUE(VLOOKUP(A68,EData,3,0))","v":"04:54:19"},{"$f":"TIMEVALUE(VLOOKUP(A68,BData,9,0))","v":"01:08:27"},{"$f":"VLOOKUP(A68,PData,2,0)","v":31},{"$f":"VLOOKUP(A68,EData,6,0)","v":0.55550735760285597}]
[{"$f":"Break!A69","v":"Hyd_Neeraj Saxena (1008579)"},"Neeraj Saxena",{"$f":"TIMEVALUE(VLOOKUP(A69,EData,2,0))","v":"08:21:13"},{"$f":"TIMEVALUE(VLOOKUP(A69,EData,3,0))","v":"04:36:09"},{"$f":"TIMEVALUE(VLOOKUP(A69,BData,9,0))","v":"02:15:18"},{"$f":"VLOOKUP(A69,PData,2,0)","v":30},{"$f":"VLOOKUP(A69,EData,6,0)","v":0.45535862734013899}]
[{"$f":"Break!A70","v":"Hyd_Neeru Mehta (1008580)"},"Neeru Mehta",{"$f":"TIMEVALUE(VLOOKUP(A70,EData,2,0))","v":"08:02:20"},{"$f":"TIMEVALUE(VLOOKUP(A70,EData,3,0))","v":"04:44:15"},{"$f":"TIMEVALUE(VLOOKUP(A70,BData,9,0))","v":"01:10:03"},{"$f":"VLOOKUP(A70,PData,2,0)","v":29},{"$f":"VLOOKUP(A70,EData,6,0)","v":0.53445058742225304}]
[{"$f":"Break!A71","v":"Hyd_Nikita Panwalkar (1008581)"},"Nikita Panwalkar",{"$f":"TIMEVALUE(VLOOKUP(A71,EData,2,0))","v":"08:16:46"},{"$f":"TIMEVALUE(VLOOKUP(A71,EData,3,0))","v":"04:58:45"},{"$f":"TIMEVALUE(VLOOKUP(A71,BData,9,0))","v":"01:37:25"},{"$f":"VLOOKUP(A71,PData,2,0)","v":28},{"$f":"VLOOKUP(A71,EData,6,0)","v":0.55914916459773201}]
[{"$f":"Break!A72","v":"Hyd_Nitin Bhatia (1008582)"},"Nitin Bhatia",{"$f":"TIMEVALUE(VLOOKUP(A72,EData,2,0))","v":"08:00:37"},{"$f":"TIMEVALUE(VLOOKUP(A72,EData,3,0))","v":"04:44:56"},{"$f":"TIMEVALUE(VLOOKUP(A72,BData,9,0))","v":"01:09:53"},{"$f":"VLOOKUP(A72,PData,2,0)","v":29},{"$f":"VLOOKUP(A72,EData,6,0)","v":0.56847106148351101}]
[{"$f":"Break!A73","v":"Hyd_Om Prakash (1008583)"},"Om Prakash",{"$f":"TIMEVALUE(VLOOKUP(A73,EData,2,0))","v":"07:55:44"},{"$f":"TIMEVALUE(VLOOKUP(A73,EData,3,0))","v":"04:26:21"},{"$f":"TIMEVALUE(VLOOKUP(A73,BData,9,0))","v":"01:36:03"},{"$f":"VLOOKUP(A73,PData,2,0)","v":30},{"$f":"VLOOKUP(A73,EData,6,0)","v":0.47509108744394601}]
[{"$f":"Break!A74","v":"Hyd_Omprakash O (1008584)"},"Omprakash O",{"$f":"TIMEVALUE(VLOOKUP(A74,EData,2,0))","v":"08:09:43"},{"$f":"TIMEVALUE(VLOOKUP(A74,EData,3,0))","v":"04:02:05"},{"$f":"TIMEVALUE(VLOOKUP(A74,BData,9,0))","v":"02:11:54"},{"$f":"VLOOKUP(A74,PData,2,0)","v":31},{"$f":"VLOOKUP(A74,EData,6,0)","v":0.47578531804104401}]
[{"$f":"Break!A75","v":"Hyd_Owais Mohd (1008585)"},"Owais Mohd",{"$f":"TIMEVALUE(VLOOKUP(A75,EData,2,0))","v":"08:01:11"},{"$f":"TIMEVALUE(VLOOKUP(A75,EData,3,0))","v":"04:02:50"},{"$f":"TIMEVALUE(VLOOKUP(A75,BData,9,0))","v":"02:26:26"},{"$f":"VLOOKUP(A75,PData,2,0)","v":32},{"$f":"VLOOKUP(A75,EData,6,0)","v":0.46898271622042897}]
[{"$f":"Break!A76","v":"Hyd_Pankaj Shelkey (1008586)"},"Pankaj Shelkey",{"$f":"TIMEVALUE(VLOOKUP(A76,EData,2,0))","v":"08:15:54"},{"$f":"TIMEVALUE(VLOOKUP(A76,EData,3,0))","v":"04:26:54"},{"$f":"TIMEVALUE(VLOOKUP(A76,BData,9,0))","v":"01:55:26"},{"$f":"VLOOKUP(A76,PData,2,0)","v":33},{"$f":"VLOOKUP(A76,EData,6,0)","v":0.51361161524500898}]
[{"$f":"Break!A77","v":"Hyd_Partha Sarathi (1008587)"},"Partha Sarathi",{"$f":"TIMEVALUE(VLOOKUP(A77,EData,2,0))","v":"08:32:22"},{"$f":"TIMEVALUE(VLOOKUP(A77,EData,3,0))","v":"05:11:39"},{"$f":"TIMEVALUE(VLOOKUP(A77,BData,9,0))","v":"01:38:42"},{"$f":"VLOOKUP(A77,PData,2,0)","v":34},{"$f":"VLOOKUP(A77,EData,6,0)","v":0.525112224318522}]
[{"$f":"Break!A78","v":"Hyd_Prabha Desikan (1008588)"},"Prabha Desikan",{"$f":"TIMEVALUE(VLOOKUP(A78,EData,2,0))","v":"08:21:49"},{"$f":"TIMEVALUE(VLOOKUP(A78,EData,3,0))","v":"03:03:51"},{"$f":"TIMEVALUE(VLOOKUP(A78,BData,9,0))","v":"04:11:26"},{"$f":"VLOOKUP(A78,PData,2,0)","v":35},{"$f":"VLOOKUP(A78,EData,6,0)","v":0.348600086352918}]
[{"$f":"Break!A79","v":"Hyd_Pramod Tiwari (1008589)"},"Pramod Tiwari",{"$f":"TIMEVALUE(VLOOKUP(A79,EData,2,0))","v":"08:25:20"},{"$f":"TIMEVALUE(VLOOKUP(A79,EData,3,0))","v":"02:54:03"},{"$f":"TIMEVALUE(VLOOKUP(A79,BData,9,0))","v":"04:21:06"},{"$f":"VLOOKUP(A79,PData,2,0)","v":36},{"$f":"VLOOKUP(A79,EData,6,0)","v":0.314709762532982}]
[{"$f":"Break!A80","v":"Hyd_Prasannakumari S (1008590)"},"Prasannakumari S",{"$f":"TIMEVALUE(VLOOKUP(A80,EData,2,0))","v":"08:08:02"},{"$f":"TIMEVALUE(VLOOKUP(A80,EData,3,0))","v":"05:10:46"},{"$f":"TIMEVALUE(VLOOKUP(A80,BData,9,0))","v":"01:10:25"},{"$f":"VLOOKUP(A80,PData,2,0)","v":37},{"$f":"VLOOKUP(A80,EData,6,0)","v":0.55600710333993597}]
[{"$f":"Break!A81","v":"Hyd_Praveen Kumar (1008591)"},"Praveen Kumar",{"$f":"TIMEVALUE(VLOOKUP(A81,EData,2,0))","v":"08:19:20"},{"$f":"TIMEVALUE(VLOOKUP(A81,EData,3,0))","v":"04:08:46"},{"$f":"TIMEVALUE(VLOOKUP(A81,BData,9,0))","v":"02:37:28"},{"$f":"VLOOKUP(A81,PData,2,0)","v":38},{"$f":"VLOOKUP(A81,EData,6,0)","v":0.46221628838451301}]
[{"$f":"Break!A82","v":"Hyd_Rachel Mathew (1008592)"},"Rachel Mathew",{"$f":"TIMEVALUE(VLOOKUP(A82,EData,2,0))","v":"08:25:36"},{"$f":"TIMEVALUE(VLOOKUP(A82,EData,3,0))","v":"03:40:53"},{"$f":"TIMEVALUE(VLOOKUP(A82,BData,9,0))","v":"03:20:01"},{"$f":"VLOOKUP(A82,PData,2,0)","v":39},{"$f":"VLOOKUP(A82,EData,6,0)","v":0.39075685654008402}]
[{"$f":"Break!A83","v":"Hyd_Rachita Anupam (1008593)"},"Rachita Anupam",{"$f":"TIMEVALUE(VLOOKUP(A83,EData,2,0))","v":"08:16:26"},{"$f":"TIMEVALUE(VLOOKUP(A83,EData,3,0))","v":"05:16:03"},{"$f":"TIMEVALUE(VLOOKUP(A83,BData,9,0))","v":"01:08:32"},{"$f":"VLOOKUP(A83,PData,2,0)","v":40},{"$f":"VLOOKUP(A83,EData,6,0)","v":0.54713623850130899}]
[{"$f":"Break!A84","v":"Hyd_Rachna Chauhan (1008594)"},"Rachna Chauhan",{"$f":"TIMEVALUE(VLOOKUP(A84,EData,2,0))","v":"07:36:07"},{"$f":"TIMEVALUE(VLOOKUP(A84,EData,3,0))","v":"05:07:23"},{"$f":"TIMEVALUE(VLOOKUP(A84,BData,9,0))","v":"00:30:20"},{"$f":"VLOOKUP(A84,PData,2,0)","v":41},{"$f":"VLOOKUP(A84,EData,6,0)","v":0.61457229509993805}]
[{"$f":"Break!A85","v":"Hyd_Raj Kumar (1008595)"},"Raj Kumar",{"$f":"TIMEVALUE(VLOOKUP(A85,EData,2,0))","v":"08:09:57"},{"$f":"TIMEVALUE(VLOOKUP(A85,EData,3,0))","v":"05:03:51"},{"$f":"TIMEVALUE(VLOOKUP(A85,BData,9,0))","v":"01:08:44"},{"$f":"VLOOKUP(A85,PData,2,0)","v":42},{"$f":"VLOOKUP(A85,EData,6,0)","v":0.55335578460387103}]
[{"$f":"Break!A86","v":"Hyd_Rajeev Garg (1008596)"},"Rajeev Garg",{"$f":"TIMEVALUE(VLOOKUP(A86,EData,2,0))","v":"08:04:00"},{"$f":"TIMEVALUE(VLOOKUP(A86,EData,3,0))","v":"05:05:29"},{"$f":"TIMEVALUE(VLOOKUP(A86,BData,9,0))","v":"01:08:24"},{"$f":"VLOOKUP(A86,PData,2,0)","v":43},{"$f":"VLOOKUP(A86,EData,6,0)","v":0.611363636363636}]
[{"$f":"Break!A87","v":"Hyd_Rajeev Kumar (1008597)"},"Rajeev Kumar",{"$f":"TIMEVALUE(VLOOKUP(A87,EData,2,0))","v":"07:59:43"},{"$f":"TIMEVALUE(VLOOKUP(A87,EData,3,0))","v":"04:28:51"},{"$f":"TIMEVALUE(VLOOKUP(A87,BData,9,0))","v":"01:37:06"},{"$f":"VLOOKUP(A87,PData,2,0)","v":44},{"$f":"VLOOKUP(A87,EData,6,0)","v":0.51217732689434703}]
[{"$f":"Break!A88","v":"Hyd_Rajendra Gupta (1008598)"},"Rajendra Gupta",{"$f":"TIMEVALUE(VLOOKUP(A88,EData,2,0))","v":"08:25:57"},{"$f":"TIMEVALUE(VLOOKUP(A88,EData,3,0))","v":"04:58:12"},{"$f":"TIMEVALUE(VLOOKUP(A88,BData,9,0))","v":"01:19:08"},{"$f":"VLOOKUP(A88,PData,2,0)","v":45},{"$f":"VLOOKUP(A88,EData,6,0)","v":0.56029910728991705}]
[{"$f":"Break!A89","v":"Hyd_Rajendra Kumar (1008599)"},"Rajendra Kumar",{"$f":"TIMEVALUE(VLOOKUP(A89,EData,2,0))","v":"08:14:44"},{"$f":"TIMEVALUE(VLOOKUP(A89,EData,3,0))","v":"03:55:22"},{"$f":"TIMEVALUE(VLOOKUP(A89,BData,9,0))","v":"02:34:16"},{"$f":"VLOOKUP(A89,PData,2,0)","v":46},{"$f":"VLOOKUP(A89,EData,6,0)","v":0.42891793558819602}]
[{"$f":"Break!A90","v":"Hyd_Rajendra Prasad (1008600)"},"Rajendra Prasad",{"$f":"TIMEVALUE(VLOOKUP(A90,EData,2,0))","v":"08:22:34"},{"$f":"TIMEVALUE(VLOOKUP(A90,EData,3,0))","v":"00:48:33"},{"$f":"TIMEVALUE(VLOOKUP(A90,BData,9,0))","v":"07:08:19"},{"$f":"VLOOKUP(A90,PData,2,0)","v":47},{"$f":"VLOOKUP(A90,EData,6,0)","v":9.4547987000066294E-2}]
[{"$f":"Break!A91","v":"Hyd_Rajesh Kumar (1008601)"},"Rajesh Kumar",{"$f":"TIMEVALUE(VLOOKUP(A91,EData,2,0))","v":"08:00:39"},{"$f":"TIMEVALUE(VLOOKUP(A91,EData,3,0))","v":"05:11:50"},{"$f":"TIMEVALUE(VLOOKUP(A91,BData,9,0))","v":"01:12:04"},{"$f":"VLOOKUP(A91,PData,2,0)","v":48},{"$f":"VLOOKUP(A91,EData,6,0)","v":0.61021533340268397}]
[{"$f":"Break!A92","v":"Hyd_Rajesh Kumar (1008602)"},"Rajesh Kumar",{"$f":"TIMEVALUE(VLOOKUP(A92,EData,2,0))","v":"08:17:39"},{"$f":"TIMEVALUE(VLOOKUP(A92,EData,3,0))","v":"04:49:40"},{"$f":"TIMEVALUE(VLOOKUP(A92,BData,9,0))","v":"02:06:35"},{"$f":"VLOOKUP(A92,PData,2,0)","v":49},{"$f":"VLOOKUP(A92,EData,6,0)","v":0.51260926353863201}]
[{"$f":"Break!A93","v":"Hyd_Rajesh Sharma (1008603)"},"Rajesh Sharma",{"$f":"TIMEVALUE(VLOOKUP(A93,EData,2,0))","v":"05:04:31"},{"$f":"TIMEVALUE(VLOOKUP(A93,EData,3,0))","v":"03:24:21"},{"$f":"TIMEVALUE(VLOOKUP(A93,BData,9,0))","v":"00:24:27"},{"$f":"VLOOKUP(A93,PData,2,0)","v":50},{"$f":"VLOOKUP(A93,EData,6,0)","v":0.62426796562859199}]
[{"$f":"Break!A94","v":"Hyd_Raji Abraham (1008604)"},"Raji Abraham",{"$f":"TIMEVALUE(VLOOKUP(A94,EData,2,0))","v":"08:10:41"},{"$f":"TIMEVALUE(VLOOKUP(A94,EData,3,0))","v":"04:44:35"},{"$f":"TIMEVALUE(VLOOKUP(A94,BData,9,0))","v":"01:09:28"},{"$f":"VLOOKUP(A94,PData,2,0)","v":51},{"$f":"VLOOKUP(A94,EData,6,0)","v":0.54373153085832704}]
[{"$f":"Break!A95","v":"Hyd_Rajshree Dhabekar (1008605)"},"Rajshree Dhabekar",{"$f":"TIMEVALUE(VLOOKUP(A95,EData,2,0))","v":"08:15:13"},{"$f":"TIMEVALUE(VLOOKUP(A95,EData,3,0))","v":{"$error":"#VALUE!"}},{"$f":"TIMEVALUE(VLOOKUP(A95,BData,9,0))","v":"08:15:09"},{"$f":"VLOOKUP(A95,PData,2,0)","v":52},{"$f":"VLOOKUP(A95,EData,6,0)","v":0}]
[{"$f":"Break!A96","v":"Hyd_Rakhi Jodhani (1008606)"},"Rakhi Jodhani",{"$f":"TIMEVALUE(VLOOKUP(A96,EData,2,0))","v":"08:02:52"},{"$f":"TIMEVALUE(VLOOKUP(A96,EData,3,0))","v":"01:13:06"},{"$f":"TIMEVALUE(VLOOKUP(A96,BData,9,0))","v":"06:39:44"},{"$f":"VLOOKUP(A96,PData,2,0)","v":53},{"$f":"VLOOKUP(A96,EData,6,0)","v":0.14431174927516199}]
[{"$f":"Break!A97","v":"Hyd_Ramji Prasad (1008607)"},"Ramji Prasad",{"$f":"TIMEVALUE(VLOOKUP(A97,EData,2,0))","v":"08:19:26"},{"$f":"TIMEVALUE(VLOOKUP(A97,EData,3,0))","v":"04:53:04"},{"$f":"TIMEVALUE(VLOOKUP(A97,BData,9,0))","v":"01:13:46"},{"$f":"VLOOKUP(A97,PData,2,0)","v":54},{"$f":"VLOOKUP(A97,EData,6,0)","v":0.55259293866381898}]
[{"$f":"Break!A98","v":"Del_Rashid (1008608)"},"Rashid",{"$f":"TIMEVALUE(VLOOKUP(A98,EData,2,0))","v":"08:02:10"},{"$f":"TIMEVALUE(VLOOKUP(A98,EData,3,0))","v":"01:36:08"},{"$f":"TIMEVALUE(VLOOKUP(A98,BData,9,0))","v":"05:45:13"},{"$f":"VLOOKUP(A98,PData,2,0)","v":55},{"$f":"VLOOKUP(A98,EData,6,0)","v":0.18938817836156199}]
[{"$f":"Break!A99","v":"Del_Rashmi Gajbe (1008609)"},"Rashmi Gajbe",{"$f":"TIMEVALUE(VLOOKUP(A99,EData,2,0))","v":"08:20:42"},{"$f":"TIMEVALUE(VLOOKUP(A99,EData,3,0))","v":"04:16:57"},{"$f":"TIMEVALUE(VLOOKUP(A99,BData,9,0))","v":"02:04:58"},{"$f":"VLOOKUP(A99,PData,2,0)","v":56},{"$f":"VLOOKUP(A99,EData,6,0)","v":0.47077424938419499}]
[{"$f":"Break!A100","v":"Del_Ravi Kumar (1008610)"},"Ravi Kumar",{"$f":"TIMEVALUE(VLOOKUP(A100,EData,2,0))","v":"08:00:44"},{"$f":"TIMEVALUE(VLOOKUP(A100,EData,3,0))","v":"04:47:03"},{"$f":"TIMEVALUE(VLOOKUP(A100,BData,9,0))","v":"01:11:14"},{"$f":"VLOOKUP(A100,PData,2,0)","v":57},{"$f":"VLOOKUP(A100,EData,6,0)","v":0.53862155040909698}]
[{"$f":"Break!A101","v":"Del_Ravinder Kaur (1008611)"},"Ravinder Kaur",{"$f":"TIMEVALUE(VLOOKUP(A101,EData,2,0))","v":"08:01:53"},{"$f":"TIMEVALUE(VLOOKUP(A101,EData,3,0))","v":"04:38:57"},{"$f":"TIMEVALUE(VLOOKUP(A101,BData,9,0))","v":"01:09:28"},{"$f":"VLOOKUP(A101,PData,2,0)","v":58},{"$f":"VLOOKUP(A101,EData,6,0)","v":0.53294365856189296}]
[{"$f":"Break!A102","v":"Del_Rekha Agarwal (1008612)"},"Rekha Agarwal",{"$f":"TIMEVALUE(VLOOKUP(A102,EData,2,0))","v":"05:53:52"},{"$f":"TIMEVALUE(VLOOKUP(A102,EData,3,0))","v":"02:53:07"},{"$f":"TIMEVALUE(VLOOKUP(A102,BData,9,0))","v":"02:41:42"},{"$f":"VLOOKUP(A102,PData,2,0)","v":59},{"$f":"VLOOKUP(A102,EData,6,0)","v":0.41310286360211002}]
[{"$f":"Break!A103","v":"Del_Rekha Gupta (1008613)"},"Rekha Gupta",{"$f":"TIMEVALUE(VLOOKUP(A103,EData,2,0))","v":"08:16:02"},{"$f":"TIMEVALUE(VLOOKUP(A103,EData,3,0))","v":"04:22:52"},{"$f":"TIMEVALUE(VLOOKUP(A103,BData,9,0))","v":"01:50:37"},{"$f":"VLOOKUP(A103,PData,2,0)","v":60},{"$f":"VLOOKUP(A103,EData,6,0)","v":0.50483838451717}]
[{"$f":"Break!A104","v":"Del_Rekha Jain  (1008614)"},"Rekha Jain ",{"$f":"TIMEVALUE(VLOOKUP(A104,EData,2,0))","v":"08:15:42"},{"$f":"TIMEVALUE(VLOOKUP(A104,EData,3,0))","v":"04:25:29"},{"$f":"TIMEVALUE(VLOOKUP(A104,BData,9,0))","v":"01:36:57"},{"$f":"VLOOKUP(A104,PData,2,0)","v":61},{"$f":"VLOOKUP(A104,EData,6,0)","v":0.52390558805729304}]
[{"$f":"Break!A105","v":"Del_Renu Pratap (1008615)"},"Renu Pratap",{"$f":"TIMEVALUE(VLOOKUP(A105,EData,2,0))","v":"08:16:30"},{"$f":"TIMEVALUE(VLOOKUP(A105,EData,3,0))","v":"02:30:29"},{"$f":"TIMEVALUE(VLOOKUP(A105,BData,9,0))","v":"05:07:55"},{"$f":"VLOOKUP(A105,PData,2,0)","v":62},{"$f":"VLOOKUP(A105,EData,6,0)","v":0.25444780127559602}]
[{"$f":"Break!A106","v":"Del_Ritu Bhatnagar (1008616)"},"Ritu Bhatnagar",{"$f":"TIMEVALUE(VLOOKUP(A106,EData,2,0))","v":"08:01:48"},{"$f":"TIMEVALUE(VLOOKUP(A106,EData,3,0))","v":"04:52:13"},{"$f":"TIMEVALUE(VLOOKUP(A106,BData,9,0))","v":"01:13:20"},{"$f":"VLOOKUP(A106,PData,2,0)","v":63},{"$f":"VLOOKUP(A106,EData,6,0)","v":0.55517503805174995}]
[{"$f":"Break!A107","v":"Del_Rohit Nishchal (1008617)"},"Rohit Nishchal",{"$f":"TIMEVALUE(VLOOKUP(A107,EData,2,0))","v":"08:17:09"},{"$f":"TIMEVALUE(VLOOKUP(A107,EData,3,0))","v":{"$error":"#VALUE!"}},{"$f":"TIMEVALUE(VLOOKUP(A107,BData,9,0))","v":"08:17:00"},{"$f":"VLOOKUP(A107,PData,2,0)","v":64},{"$f":"VLOOKUP(A107,EData,6,0)","v":0}]
[{"$f":"Break!A108","v":"Del_Roli Bhatnagar (1008618)"},"Roli Bhatnagar",{"$f":"TIMEVALUE(VLOOKUP(A108,EData,2,0))","v":"08:15:43"},{"$f":"TIMEVALUE(VLOOKUP(A108,EData,3,0))","v":"04:08:30"},{"$f":"TIMEVALUE(VLOOKUP(A108,BData,9,0))","v":"02:10:16"},{"$f":"VLOOKUP(A108,PData,2,0)","v":65},{"$f":"VLOOKUP(A108,EData,6,0)","v":0.477120667047709}]
[{"$f":"Break!A109","v":"Del_Roma Rastogi (1008619)"},"Roma Rastogi",{"$f":"TIMEVALUE(VLOOKUP(A109,EData,2,0))","v":"08:31:02"},{"$f":"TIMEVALUE(VLOOKUP(A109,EData,3,0))","v":"05:35:38"},{"$f":"TIMEVALUE(VLOOKUP(A109,BData,9,0))","v":"00:53:47"},{"$f":"VLOOKUP(A109,PData,2,0)","v":66},{"$f":"VLOOKUP(A109,EData,6,0)","v":0.61917030852521004}]
[{"$f":"Break!A110","v":"Del_Roohi Haider (1008620)"},"Roohi Haider",{"$f":"TIMEVALUE(VLOOKUP(A110,EData,2,0))","v":"08:00:11"},{"$f":"TIMEVALUE(VLOOKUP(A110,EData,3,0))","v":"04:52:11"},{"$f":"TIMEVALUE(VLOOKUP(A110,BData,9,0))","v":"01:09:24"},{"$f":"VLOOKUP(A110,PData,2,0)","v":67},{"$f":"VLOOKUP(A110,EData,6,0)","v":0.55305265350039901}]
[{"$f":"Break!A111","v":"Del_Sajid Naqvi (1008621)"},"Sajid Naqvi",{"$f":"TIMEVALUE(VLOOKUP(A111,EData,2,0))","v":"08:15:48"},{"$f":"TIMEVALUE(VLOOKUP(A111,EData,3,0))","v":"05:00:37"},{"$f":"TIMEVALUE(VLOOKUP(A111,BData,9,0))","v":"01:08:40"},{"$f":"VLOOKUP(A111,PData,2,0)","v":68},{"$f":"VLOOKUP(A111,EData,6,0)","v":0.56195374478956595}]
[{"$f":"Break!A112","v":"Del_Salim (1008622)"},"Salim",{"$f":"TIMEVALUE(VLOOKUP(A112,EData,2,0))","v":"08:15:56"},{"$f":"TIMEVALUE(VLOOKUP(A112,EData,3,0))","v":"04:37:42"},{"$f":"TIMEVALUE(VLOOKUP(A112,BData,9,0))","v":"01:59:29"},{"$f":"VLOOKUP(A112,PData,2,0)","v":69},{"$f":"VLOOKUP(A112,EData,6,0)","v":0.48780077967468699}]
[{"$f":"Break!A113","v":"Del_Sanjay Hire (1008623)"},"Sanjay Hire",{"$f":"TIMEVALUE(VLOOKUP(A113,EData,2,0))","v":"08:15:52"},{"$f":"TIMEVALUE(VLOOKUP(A113,EData,3,0))","v":"05:00:14"},{"$f":"TIMEVALUE(VLOOKUP(A113,BData,9,0))","v":"01:09:43"},{"$f":"VLOOKUP(A113,PData,2,0)","v":70},{"$f":"VLOOKUP(A113,EData,6,0)","v":0.55414762032804499}]
[{"$f":"Break!A114","v":"Del_Sanjiv Subherwal (1008624)"},"Sanjiv Subherwal",{"$f":"TIMEVALUE(VLOOKUP(A114,EData,2,0))","v":"08:02:17"},{"$f":"TIMEVALUE(VLOOKUP(A114,EData,3,0))","v":"05:06:07"},{"$f":"TIMEVALUE(VLOOKUP(A114,BData,9,0))","v":"01:10:15"},{"$f":"VLOOKUP(A114,PData,2,0)","v":71},{"$f":"VLOOKUP(A114,EData,6,0)","v":0.58651553374572396}]
[{"$f":"Break!A115","v":"Del_Sanju Ramdas (1008625)"},"Sanju Ramdas",{"$f":"TIMEVALUE(VLOOKUP(A115,EData,2,0))","v":"08:15:58"},{"$f":"TIMEVALUE(VLOOKUP(A115,EData,3,0))","v":"05:19:44"},{"$f":"TIMEVALUE(VLOOKUP(A115,BData,9,0))","v":"01:13:56"},{"$f":"VLOOKUP(A115,PData,2,0)","v":72},{"$f":"VLOOKUP(A115,EData,6,0)","v":0.58165871362322696}]
[{"$f":"Break!A116","v":"Del_Santosh Kumar (1008626)"},"Santosh Kumar",{"$f":"TIMEVALUE(VLOOKUP(A116,EData,2,0))","v":"08:00:32"},{"$f":"TIMEVALUE(VLOOKUP(A116,EData,3,0))","v":"05:03:10"},{"$f":"TIMEVALUE(VLOOKUP(A116,BData,9,0))","v":"01:09:48"},{"$f":"VLOOKUP(A116,PData,2,0)","v":73},{"$f":"VLOOKUP(A116,EData,6,0)","v":0.59073251942286398}]
[{"$f":"Break!A117","v":"Del_Santosh Kumar (1008627)"},"Santosh Kumar",{"$f":"TIMEVALUE(VLOOKUP(A117,EData,2,0))","v":"08:17:04"},{"$f":"TIMEVALUE(VLOOKUP(A117,EData,3,0))","v":"05:09:57"},{"$f":"TIMEVALUE(VLOOKUP(A117,BData,9,0))","v":"01:10:58"},{"$f":"VLOOKUP(A117,PData,2,0)","v":74},{"$f":"VLOOKUP(A117,EData,6,0)","v":0.58640692060085797}]
[{"$f":"Break!A118","v":"Del_Santosh Kumar (1008628)"},"Santosh Kumar",{"$f":"TIMEVALUE(VLOOKUP(A118,EData,2,0))","v":"08:02:59"},{"$f":"TIMEVALUE(VLOOKUP(A118,EData,3,0))","v":"04:44:19"},{"$f":"TIMEVALUE(VLOOKUP(A118,BData,9,0))","v":"01:12:01"},{"$f":"VLOOKUP(A118,PData,2,0)","v":75},{"$f":"VLOOKUP(A118,EData,6,0)","v":0.54653369681493502}]
[{"$f":"Break!A119","v":"Del_Sapna Sharma (1008629)"},"Sapna Sharma",{"$f":"TIMEVALUE(VLOOKUP(A119,EData,2,0))","v":"08:04:14"},{"$f":"TIMEVALUE(VLOOKUP(A119,EData,3,0))","v":"04:33:29"},{"$f":"TIMEVALUE(VLOOKUP(A119,BData,9,0))","v":"01:32:37"},{"$f":"VLOOKUP(A119,PData,2,0)","v":76},{"$f":"VLOOKUP(A119,EData,6,0)","v":0.53238796723342696}]
[{"$f":"Break!A120","v":"Del_Saroj Parita (1008630)"},"Saroj Parita",{"$f":"TIMEVALUE(VLOOKUP(A120,EData,2,0))","v":"08:01:59"},{"$f":"TIMEVALUE(VLOOKUP(A120,EData,3,0))","v":"04:31:42"},{"$f":"TIMEVALUE(VLOOKUP(A120,BData,9,0))","v":"01:45:37"},{"$f":"VLOOKUP(A120,PData,2,0)","v":77},{"$f":"VLOOKUP(A120,EData,6,0)","v":0.47020989660776702}]
[{"$f":"Break!A121","v":"Del_Shailaja Kamal (1008631)"},"Shailaja Kamal",{"$f":"TIMEVALUE(VLOOKUP(A121,EData,2,0))","v":"08:09:14"},{"$f":"TIMEVALUE(VLOOKUP(A121,EData,3,0))","v":"04:51:46"},{"$f":"TIMEVALUE(VLOOKUP(A121,BData,9,0))","v":"01:08:46"},{"$f":"VLOOKUP(A121,PData,2,0)","v":78},{"$f":"VLOOKUP(A121,EData,6,0)","v":0.54633099407235797}]
[{"$f":"Break!A122","v":"Del_Shailendra Barge (1008632)"},"Shailendra Barge",{"$f":"TIMEVALUE(VLOOKUP(A122,EData,2,0))","v":"08:17:38"},{"$f":"TIMEVALUE(VLOOKUP(A122,EData,3,0))","v":"03:26:09"},{"$f":"TIMEVALUE(VLOOKUP(A122,BData,9,0))","v":"03:43:06"},{"$f":"VLOOKUP(A122,PData,2,0)","v":79},{"$f":"VLOOKUP(A122,EData,6,0)","v":0.38820416638756799}]
[{"$f":"Break!A123","v":"Del_Shankar Attendant (1008633)"},"Shankar Attendant",{"$f":"TIMEVALUE(VLOOKUP(A123,EData,2,0))","v":"07:57:56"},{"$f":"TIMEVALUE(VLOOKUP(A123,EData,3,0))","v":"03:27:15"},{"$f":"TIMEVALUE(VLOOKUP(A123,BData,9,0))","v":"03:15:05"},{"$f":"VLOOKUP(A123,PData,2,0)","v":80},{"$f":"VLOOKUP(A123,EData,6,0)","v":0.40277584042404802}]
[{"$f":"Break!A124","v":"Del_Shashikant Tiwari (1008634)"},"Shashikant Tiwari",{"$f":"TIMEVALUE(VLOOKUP(A124,EData,2,0))","v":"08:14:55"},{"$f":"TIMEVALUE(VLOOKUP(A124,EData,3,0))","v":"05:19:10"},{"$f":"TIMEVALUE(VLOOKUP(A124,BData,9,0))","v":"01:09:59"},{"$f":"VLOOKUP(A124,PData,2,0)","v":81},{"$f":"VLOOKUP(A124,EData,6,0)","v":0.54352584610203702}]
[{"$f":"Break!A125","v":"Del_Sheeba Joseph (1008635)"},"Sheeba Joseph",{"$f":"TIMEVALUE(VLOOKUP(A125,EData,2,0))","v":"08:30:57"},{"$f":"TIMEVALUE(VLOOKUP(A125,EData,3,0))","v":"03:41:07"},{"$f":"TIMEVALUE(VLOOKUP(A125,BData,9,0))","v":"00:55:39"},{"$f":"VLOOKUP(A125,PData,2,0)","v":82},{"$f":"VLOOKUP(A125,EData,6,0)","v":0.28371986821932998}]
[{"$f":"Break!A126","v":"Del_Sheena Joseph (1008636)"},"Sheena Joseph",{"$f":"TIMEVALUE(VLOOKUP(A126,EData,2,0))","v":"08:49:34"},{"$f":"TIMEVALUE(VLOOKUP(A126,EData,3,0))","v":"05:10:26"},{"$f":"TIMEVALUE(VLOOKUP(A126,BData,9,0))","v":"01:41:30"},{"$f":"VLOOKUP(A126,PData,2,0)","v":83},{"$f":"VLOOKUP(A126,EData,6,0)","v":0.56196890539434796}]
[{"$f":"Break!A127","v":"Del_Shephali Jain (1008637)"},"Shephali Jain",{"$f":"TIMEVALUE(VLOOKUP(A127,EData,2,0))","v":"08:25:43"},{"$f":"TIMEVALUE(VLOOKUP(A127,EData,3,0))","v":"03:41:29"},{"$f":"TIMEVALUE(VLOOKUP(A127,BData,9,0))","v":"03:23:49"},{"$f":"VLOOKUP(A127,PData,2,0)","v":84},{"$f":"VLOOKUP(A127,EData,6,0)","v":0.40332201825791802}]
[{"$f":"Break!A128","v":"Del_Shivji Prasad (1008638)"},"Shivji Prasad",{"$f":"TIMEVALUE(VLOOKUP(A128,EData,2,0))","v":"08:11:40"},{"$f":"TIMEVALUE(VLOOKUP(A128,EData,3,0))","v":"04:12:39"},{"$f":"TIMEVALUE(VLOOKUP(A128,BData,9,0))","v":"02:17:48"},{"$f":"VLOOKUP(A128,PData,2,0)","v":85},{"$f":"VLOOKUP(A128,EData,6,0)","v":0.43796610169491501}]
[{"$f":"Break!A129","v":"Del_Shubhanjali Joshi (1008639)"},"Shubhanjali Joshi",{"$f":"TIMEVALUE(VLOOKUP(A129,EData,2,0))","v":"08:17:17"},{"$f":"TIMEVALUE(VLOOKUP(A129,EData,3,0))","v":"04:54:52"},{"$f":"TIMEVALUE(VLOOKUP(A129,BData,9,0))","v":"01:19:32"},{"$f":"VLOOKUP(A129,PData,2,0)","v":86},{"$f":"VLOOKUP(A129,EData,6,0)","v":0.55581995508931903}]
[{"$f":"Break!A130","v":"Del_Shyamal Malakar (1008640)"},"Shyamal Malakar",{"$f":"TIMEVALUE(VLOOKUP(A130,EData,2,0))","v":"08:15:36"},{"$f":"TIMEVALUE(VLOOKUP(A130,EData,3,0))","v":"02:53:35"},{"$f":"TIMEVALUE(VLOOKUP(A130,BData,9,0))","v":"04:35:37"},{"$f":"VLOOKUP(A130,PData,2,0)","v":87},{"$f":"VLOOKUP(A130,EData,6,0)","v":0.326035781544256}]
[{"$f":"Break!A131","v":"Del_Sneh Khan (1008641)"},{"$f":"MID(A131,FIND(\"_\",A131,1)+1,FIND(\"(\",A131,1)-FIND(\"_\",A131,1)-2)","v":"Sneh Khan"},{"$f":"TIMEVALUE(VLOOKUP(A131,EData,2,0))","v":"08:09:15"},{"$f":"TIMEVALUE(VLOOKUP(A131,EData,3,0))","v":"05:06:25"},{"$f":"TIMEVALUE(VLOOKUP(A131,BData,9,0))","v":"01:09:51"},{"$f":"VLOOKUP(A131,PData,2,0)","v":88},{"$f":"VLOOKUP(A131,EData,6,0)","v":0.57404190086867701}]
[{"$f":"Break!A132","v":"Del_Sonaram Munda (1008642)"},"Sonaram Munda",{"$f":"TIMEVALUE(VLOOKUP(A132,EData,2,0))","v":"08:00:41"},{"$f":"TIMEVALUE(VLOOKUP(A132,EData,3,0))","v":"04:11:10"},{"$f":"TIMEVALUE(VLOOKUP(A132,BData,9,0))","v":"01:57:15"},{"$f":"VLOOKUP(A132,PData,2,0)","v":89},{"$f":"VLOOKUP(A132,EData,6,0)","v":0.45359037481363301}]
[{"$f":"Break!A133","v":"Del_Sudama Kumar (1008643)"},"Sudama Kumar",{"$f":"TIMEVALUE(VLOOKUP(A133,EData,2,0))","v":"08:09:47"},{"$f":"TIMEVALUE(VLOOKUP(A133,EData,3,0))","v":"02:38:49"},{"$f":"TIMEVALUE(VLOOKUP(A133,BData,9,0))","v":"04:36:20"},{"$f":"VLOOKUP(A133,PData,2,0)","v":90},{"$f":"VLOOKUP(A133,EData,6,0)","v":0.29689998979140397}]
[{"$f":"Break!A134","v":"Del_Sudhir Kumar (1008644)"},"Sudhir Kumar",{"$f":"TIMEVALUE(VLOOKUP(A134,EData,2,0))","v":"08:00:18"},{"$f":"TIMEVALUE(VLOOKUP(A134,EData,3,0))","v":"04:35:36"},{"$f":"TIMEVALUE(VLOOKUP(A134,BData,9,0))","v":"01:14:24"},{"$f":"VLOOKUP(A134,PData,2,0)","v":91},{"$f":"VLOOKUP(A134,EData,6,0)","v":0.55729058227496697}]
[{"$f":"Break!A135","v":"Del_Sunil Kumar (1008645)"},"Sunil Kumar",{"$f":"TIMEVALUE(VLOOKUP(A135,EData,2,0))","v":"08:03:26"},{"$f":"TIMEVALUE(VLOOKUP(A135,EData,3,0))","v":"02:58:37"},{"$f":"TIMEVALUE(VLOOKUP(A135,BData,9,0))","v":"03:56:57"},{"$f":"VLOOKUP(A135,PData,2,0)","v":92},{"$f":"VLOOKUP(A135,EData,6,0)","v":0.33279321519685601}]
[{"$f":"Break!A136","v":"Del_Sunil Kumar (1008646)"},"Sunil Kumar",{"$f":"TIMEVALUE(VLOOKUP(A136,EData,2,0))","v":"08:05:06"},{"$f":"TIMEVALUE(VLOOKUP(A136,EData,3,0))","v":"04:05:03"},{"$f":"TIMEVALUE(VLOOKUP(A136,BData,9,0))","v":"02:16:51"},{"$f":"VLOOKUP(A136,PData,2,0)","v":93},{"$f":"VLOOKUP(A136,EData,6,0)","v":0.472308115165258}]
[{"$f":"Break!A137","v":"Del_Sunita Chawla (1008647)"},"Sunita Chawla",{"$f":"TIMEVALUE(VLOOKUP(A137,EData,2,0))","v":"08:05:25"},{"$f":"TIMEVALUE(VLOOKUP(A137,EData,3,0))","v":"04:31:57"},{"$f":"TIMEVALUE(VLOOKUP(A137,BData,9,0))","v":"02:06:43"},{"$f":"VLOOKUP(A137,PData,2,0)","v":94},{"$f":"VLOOKUP(A137,EData,6,0)","v":0.51110729613733896}]
[{"$f":"Break!A138","v":"Del_Sunita Madnani (1008648)"},"Sunita Madnani",{"$f":"TIMEVALUE(VLOOKUP(A138,EData,2,0))","v":"08:14:02"},{"$f":"TIMEVALUE(VLOOKUP(A138,EData,3,0))","v":"05:19:12"},{"$f":"TIMEVALUE(VLOOKUP(A138,BData,9,0))","v":"01:08:15"},{"$f":"VLOOKUP(A138,PData,2,0)","v":95},{"$f":"VLOOKUP(A138,EData,6,0)","v":0.58886040078267299}]
[{"$f":"Break!A139","v":"Del_Surendra Kumar (1008649)"},"Surendra Kumar",{"$f":"TIMEVALUE(VLOOKUP(A139,EData,2,0))","v":"07:29:10"},{"$f":"TIMEVALUE(VLOOKUP(A139,EData,3,0))","v":"02:54:25"},{"$f":"TIMEVALUE(VLOOKUP(A139,BData,9,0))","v":"03:46:52"},{"$f":"VLOOKUP(A139,PData,2,0)","v":96},{"$f":"VLOOKUP(A139,EData,6,0)","v":0.34289424860853401}]
[{"$f":"Break!A140","v":"Del_Surendranath Thakur (1008650)"},"Surendranath Thakur",{"$f":"TIMEVALUE(VLOOKUP(A140,EData,2,0))","v":"08:33:53"},{"$f":"TIMEVALUE(VLOOKUP(A140,EData,3,0))","v":"04:36:50"},{"$f":"TIMEVALUE(VLOOKUP(A140,BData,9,0))","v":"02:17:05"},{"$f":"VLOOKUP(A140,PData,2,0)","v":97},{"$f":"VLOOKUP(A140,EData,6,0)","v":0.497486459313074}]
[{"$f":"Break!A141","v":"Del_Sushma Khandelwal (1008651)"},"Sushma Khandelwal",{"$f":"TIMEVALUE(VLOOKUP(A141,EData,2,0))","v":"08:15:15"},{"$f":"TIMEVALUE(VLOOKUP(A141,EData,3,0))","v":"04:50:07"},{"$f":"TIMEVALUE(VLOOKUP(A141,BData,9,0))","v":"01:10:21"},{"$f":"VLOOKUP(A141,PData,2,0)","v":98},{"$f":"VLOOKUP(A141,EData,6,0)","v":0.52431431936732298}]
[{"$f":"Break!A142","v":"Del_Swarnlata Borse (1008652)"},"Swarnlata Borse",{"$f":"TIMEVALUE(VLOOKUP(A142,EData,2,0))","v":"08:19:05"},{"$f":"TIMEVALUE(VLOOKUP(A142,EData,3,0))","v":"02:59:39"},{"$f":"TIMEVALUE(VLOOKUP(A142,BData,9,0))","v":"04:32:37"},{"$f":"VLOOKUP(A142,PData,2,0)","v":99},{"$f":"VLOOKUP(A142,EData,6,0)","v":0.31066956086157999}]
[{"$f":"Break!A143","v":"Del_Syed Naved (1008653)"},"Syed Naved",{"$f":"TIMEVALUE(VLOOKUP(A143,EData,2,0))","v":"08:13:39"},{"$f":"TIMEVALUE(VLOOKUP(A143,EData,3,0))","v":"05:24:05"},{"$f":"TIMEVALUE(VLOOKUP(A143,BData,9,0))","v":"01:14:44"},{"$f":"VLOOKUP(A143,PData,2,0)","v":100},{"$f":"VLOOKUP(A143,EData,6,0)","v":0.58462473412336702}]
[{"$f":"Break!A144","v":"Del_Syed Saqib (1008654)"},"Syed Saqib",{"$f":"TIMEVALUE(VLOOKUP(A144,EData,2,0))","v":"08:24:48"},{"$f":"TIMEVALUE(VLOOKUP(A144,EData,3,0))","v":"02:52:08"},{"$f":"TIMEVALUE(VLOOKUP(A144,BData,9,0))","v":"05:03:34"},{"$f":"VLOOKUP(A144,PData,2,0)","v":101},{"$f":"VLOOKUP(A144,EData,6,0)","v":0.31685816164817698}]
[{"$f":"Break!A145","v":"Del_Syed Sohail (1008655)"},"Syed Sohail",{"$f":"TIMEVALUE(VLOOKUP(A145,EData,2,0))","v":"08:17:53"},{"$f":"TIMEVALUE(VLOOKUP(A145,EData,3,0))","v":"04:51:52"},{"$f":"TIMEVALUE(VLOOKUP(A145,BData,9,0))","v":"01:12:04"},{"$f":"VLOOKUP(A145,PData,2,0)","v":102},{"$f":"VLOOKUP(A145,EData,6,0)","v":0.56375322197301903}]
[{"$f":"Break!A146","v":"Del_System Operator (1008656)"},"System Operator",{"$f":"TIMEVALUE(VLOOKUP(A146,EData,2,0))","v":"08:30:54"},{"$f":"TIMEVALUE(VLOOKUP(A146,EData,3,0))","v":"05:15:36"},{"$f":"TIMEVALUE(VLOOKUP(A146,BData,9,0))","v":"00:56:05"},{"$f":"VLOOKUP(A146,PData,2,0)","v":103},{"$f":"VLOOKUP(A146,EData,6,0)","v":0.54779147908918902}]
[{"$f":"Break!A147","v":"Del_Tahira Qureshi (1008657)"},"Tahira Qureshi",{"$f":"TIMEVALUE(VLOOKUP(A147,EData,2,0))","v":"08:46:13"},{"$f":"TIMEVALUE(VLOOKUP(A147,EData,3,0))","v":"03:36:51"},{"$f":"TIMEVALUE(VLOOKUP(A147,BData,9,0))","v":"04:02:30"},{"$f":"VLOOKUP(A147,PData,2,0)","v":104},{"$f":"VLOOKUP(A147,EData,6,0)","v":0.37965983593576802}]
[{"$f":"Break!A148","v":"Del_Tapas Chakraborty (1008658)"},"Tapas Chakraborty",{"$f":"TIMEVALUE(VLOOKUP(A148,EData,2,0))","v":"08:14:56"},{"$f":"TIMEVALUE(VLOOKUP(A148,EData,3,0))","v":"05:15:14"},{"$f":"TIMEVALUE(VLOOKUP(A148,BData,9,0))","v":"01:12:11"},{"$f":"VLOOKUP(A148,PData,2,0)","v":105},{"$f":"VLOOKUP(A148,EData,6,0)","v":0.56529498922413801}]
[{"$f":"Break!A149","v":"Del_Tariq Akhlaq (1008659)"},"Tariq Akhlaq",{"$f":"TIMEVALUE(VLOOKUP(A149,EData,2,0))","v":"04:59:55"},{"$f":"TIMEVALUE(VLOOKUP(A149,EData,3,0))","v":"03:08:41"},{"$f":"TIMEVALUE(VLOOKUP(A149,BData,9,0))","v":"00:15:03"},{"$f":"VLOOKUP(A149,PData,2,0)","v":106},{"$f":"VLOOKUP(A149,EData,6,0)","v":0.60261183662128404}]
[{"$f":"Break!A150","v":"Del_Tasneem Khan (1008660)"},"Tasneem Khan",{"$f":"TIMEVALUE(VLOOKUP(A150,EData,2,0))","v":"08:33:55"},{"$f":"TIMEVALUE(VLOOKUP(A150,EData,3,0))","v":"04:38:49"},{"$f":"TIMEVALUE(VLOOKUP(A150,BData,9,0))","v":"02:16:51"},{"$f":"VLOOKUP(A150,PData,2,0)","v":107},{"$f":"VLOOKUP(A150,EData,6,0)","v":0.49813523593319298}]

{"sheet":"Dashboard","index":4,"n_rows":9,"n_cols":5,"rows_kept":9,"cut":false,"hidden":false,"merged":[[2,0,2,1],[2,3,2,4]]}
[null,null,5]
[null,null,4]
["Report 1 : Working Hours",null,null,"Report 1 : Working Hours"]
["Row Labels","Emp Total Number of woking hours.",null,"Row Labels","Sum of Active With Cust."]
["Ashok Kumar",1.3668402777777777,null,"Ashok Kumar",2.0905948641136138]
["Manoj Kumar","15:56:07",null,"Manoj Kumar",1.064298009533315]
["Rajesh Kumar","16:18:18",null,"Rajesh Kumar",1.122824596941316]
["Santosh Kumar",1.0142939814814815,null,"           ",1.7236731368386569]
["Sunil Kumar","16:08:32"]